BEGIN:VCALENDAR
VERSION:2.0
PRODID:-//IWA Graz - ECPv6.15.20//NONSGML v1.0//EN
CALSCALE:GREGORIAN
METHOD:PUBLISH
X-WR-CALNAME:IWA Graz
X-ORIGINAL-URL:https://www.iwagraz.org
X-WR-CALDESC:Events for IWA Graz
REFRESH-INTERVAL;VALUE=DURATION:PT1H
X-Robots-Tag:noindex
X-PUBLISHED-TTL:PT1H
BEGIN:VTIMEZONE
TZID:Europe/Vienna
BEGIN:DAYLIGHT
TZOFFSETFROM:+0100
TZOFFSETTO:+0200
TZNAME:CEST
DTSTART:20240331T010000
END:DAYLIGHT
BEGIN:STANDARD
TZOFFSETFROM:+0200
TZOFFSETTO:+0100
TZNAME:CET
DTSTART:20241027T010000
END:STANDARD
BEGIN:DAYLIGHT
TZOFFSETFROM:+0100
TZOFFSETTO:+0200
TZNAME:CEST
DTSTART:20250330T010000
END:DAYLIGHT
BEGIN:STANDARD
TZOFFSETFROM:+0200
TZOFFSETTO:+0100
TZNAME:CET
DTSTART:20251026T010000
END:STANDARD
BEGIN:DAYLIGHT
TZOFFSETFROM:+0100
TZOFFSETTO:+0200
TZNAME:CEST
DTSTART:20260329T010000
END:DAYLIGHT
BEGIN:STANDARD
TZOFFSETFROM:+0200
TZOFFSETTO:+0100
TZNAME:CET
DTSTART:20261025T010000
END:STANDARD
END:VTIMEZONE
BEGIN:VEVENT
DTSTART;TZID=Europe/Vienna:20250410T173000
DTEND;TZID=Europe/Vienna:20250410T193000
DTSTAMP:20260421T205521
CREATED:20250402T181544Z
LAST-MODIFIED:20250402T181544Z
UID:10000555-1744306200-1744313400@www.iwagraz.org
SUMMARY:Happy Hour April
DESCRIPTION:Join us for Happy Hour at a relatively new bar in Graz: Ui Bar. \nIt is officially on Eisernen Tor but is actually at the back of Jakominiplatz\, looking over the road towards Eisernen Tor. (Check out Google Maps to be sure you know where you are going – it is very\, very central!). \nWe will check out the disco lights\, interesting interior and maybe try a cocktail or two. \nSee you there!
URL:https://www.iwagraz.org/event/happy-hour-april/
LOCATION:Ui Bar\, Am Eisernen Tor 7\, Graz\, 8010\, Austria
CATEGORIES:Activities,Happy Hour
ATTACH;FMTTYPE=image/jpeg:https://www.iwagraz.org/wp-content/uploads/2023/01/Happy-hour.jpg
END:VEVENT
END:VCALENDAR