BEGIN:VCALENDAR
VERSION:2.0
PRODID:-//IWA Graz - ECPv6.15.20//NONSGML v1.0//EN
CALSCALE:GREGORIAN
METHOD:PUBLISH
X-ORIGINAL-URL:https://www.iwagraz.org
X-WR-CALDESC:Events for IWA Graz
REFRESH-INTERVAL;VALUE=DURATION:PT1H
X-Robots-Tag:noindex
X-PUBLISHED-TTL:PT1H
BEGIN:VTIMEZONE
TZID:Europe/Vienna
BEGIN:DAYLIGHT
TZOFFSETFROM:+0100
TZOFFSETTO:+0200
TZNAME:CEST
DTSTART:20240331T010000
END:DAYLIGHT
BEGIN:STANDARD
TZOFFSETFROM:+0200
TZOFFSETTO:+0100
TZNAME:CET
DTSTART:20241027T010000
END:STANDARD
BEGIN:DAYLIGHT
TZOFFSETFROM:+0100
TZOFFSETTO:+0200
TZNAME:CEST
DTSTART:20250330T010000
END:DAYLIGHT
BEGIN:STANDARD
TZOFFSETFROM:+0200
TZOFFSETTO:+0100
TZNAME:CET
DTSTART:20251026T010000
END:STANDARD
BEGIN:DAYLIGHT
TZOFFSETFROM:+0100
TZOFFSETTO:+0200
TZNAME:CEST
DTSTART:20260329T010000
END:DAYLIGHT
BEGIN:STANDARD
TZOFFSETFROM:+0200
TZOFFSETTO:+0100
TZNAME:CET
DTSTART:20261025T010000
END:STANDARD
END:VTIMEZONE
BEGIN:VEVENT
DTSTART;TZID=Europe/Vienna:20250128T160000
DTEND;TZID=Europe/Vienna:20250128T173000
DTSTAMP:20260421T204004
CREATED:20250103T111016Z
LAST-MODIFIED:20250105T120636Z
UID:10000461-1738080000-1738085400@www.iwagraz.org
SUMMARY:Lean-in Circle
DESCRIPTION:The IWA will re-boot its Lean-in Circle in 2025\, providing both online and in-person events throughout the year that help women come together to learn new skills and support each other both personally and professionally. \nLearn more about Lean-in Circles. \nOn Jan. 28\, our member Orsi S.\, a successful online marketing and business strategist\, will lead our first online Lean-in Circle and introduce us to social media tools we can use professionally. The sign-up link will be sent out to members by e-mail. \nContact the IWA if you are interested in joining this event as a prospective member.
URL:https://www.iwagraz.org/event/lean-in-circle-2/
LOCATION:TBA
CATEGORIES:Activities
ATTACH;FMTTYPE=image/jpeg:https://www.iwagraz.org/wp-content/uploads/2021/09/g1kr4ozfoac.jpg
END:VEVENT
END:VCALENDAR