BEGIN:VCALENDAR
VERSION:2.0
PRODID:-//IWA Graz - ECPv6.15.20//NONSGML v1.0//EN
CALSCALE:GREGORIAN
METHOD:PUBLISH
X-ORIGINAL-URL:https://www.iwagraz.org
X-WR-CALDESC:Events for IWA Graz
REFRESH-INTERVAL;VALUE=DURATION:PT1H
X-Robots-Tag:noindex
X-PUBLISHED-TTL:PT1H
BEGIN:VTIMEZONE
TZID:Europe/Vienna
BEGIN:DAYLIGHT
TZOFFSETFROM:+0100
TZOFFSETTO:+0200
TZNAME:CEST
DTSTART:20240331T010000
END:DAYLIGHT
BEGIN:STANDARD
TZOFFSETFROM:+0200
TZOFFSETTO:+0100
TZNAME:CET
DTSTART:20241027T010000
END:STANDARD
BEGIN:DAYLIGHT
TZOFFSETFROM:+0100
TZOFFSETTO:+0200
TZNAME:CEST
DTSTART:20250330T010000
END:DAYLIGHT
BEGIN:STANDARD
TZOFFSETFROM:+0200
TZOFFSETTO:+0100
TZNAME:CET
DTSTART:20251026T010000
END:STANDARD
BEGIN:DAYLIGHT
TZOFFSETFROM:+0100
TZOFFSETTO:+0200
TZNAME:CEST
DTSTART:20260329T010000
END:DAYLIGHT
BEGIN:STANDARD
TZOFFSETFROM:+0200
TZOFFSETTO:+0100
TZNAME:CET
DTSTART:20261025T010000
END:STANDARD
END:VTIMEZONE
BEGIN:VEVENT
DTSTART;TZID=Europe/Vienna:20250611T090000
DTEND;TZID=Europe/Vienna:20250611T130000
DTSTAMP:20260421T191746
CREATED:20250522T110016Z
LAST-MODIFIED:20250610T135419Z
UID:10000571-1749632400-1749646800@www.iwagraz.org
SUMMARY:Get Fit with IWA: Cycling Trip to Fernitz
DESCRIPTION:This event has been cancelled in light of the tragic events that occurred in Graz on June 10. \nIn 2025 the IWA is collaborating with the Jukus Verein in their Pro Aktiv project and organizing monthly events that encourage members to get out\, meet\, and move! \nThis month\, activity coordinator Monika K. invites you to join her on a fun bicycling trip along the Mur River (Murradweg) that starts at the Graz City Beach (Stadtstrand) and ends in small\, beautiful nearby town of Fernitz. The route is approximately 11.5 km long (generally requiring 40-50 minutes at a steady pace) and mostly flat. Partners and family members are warmly invited to join this activity. Once we arrive in Fernitz\, you can enjoy exploring the pretty Erzherzog-Johann Park\, get an ice cream at Purkarthofer Eis\, enjoy a coffee and snack at Café Purkarthofer\, or get lunch at Gasthaus Purkarthofer. \nWhen: June 11\, 9 a.m. – 1 p.m. \nWhere: Meet by 9 a.m. at Stadtstrand Graz (Seifenfabrik)\, Maria-Cäsar-Park 8\, 8041 Graz \nGoogle maps link \nTo help Monika plan this activity\, please sign up by June 4 and let us know if you will come alone or with friends/family members. \nPhoto credit: Biking in Graz | © Graz Tourismus | Tom Lamm\, used with permission from photographer \nLearn more about cycling in Graz and cycling in Styria.
URL:https://www.iwagraz.org/event/get-fit-with-iwa-june-2025/
LOCATION:Stadtstrand Graz\, Maria-Cäsar-Park 8\, Graz\, 8041\, Austria
CATEGORIES:Activities
ATTACH;FMTTYPE=image/jpeg:https://www.iwagraz.org/wp-content/uploads/2025/05/Rad-in-Graz-c-Graz-Tourismus-Tom-Lamm-64_sm.jpg
END:VEVENT
END:VCALENDAR