BEGIN:VCALENDAR
VERSION:2.0
PRODID:-//IWA Graz - ECPv6.15.20//NONSGML v1.0//EN
CALSCALE:GREGORIAN
METHOD:PUBLISH
X-WR-CALNAME:IWA Graz
X-ORIGINAL-URL:https://www.iwagraz.org
X-WR-CALDESC:Events for IWA Graz
REFRESH-INTERVAL;VALUE=DURATION:PT1H
X-Robots-Tag:noindex
X-PUBLISHED-TTL:PT1H
BEGIN:VTIMEZONE
TZID:Europe/Vienna
BEGIN:DAYLIGHT
TZOFFSETFROM:+0100
TZOFFSETTO:+0200
TZNAME:CEST
DTSTART:20240331T010000
END:DAYLIGHT
BEGIN:STANDARD
TZOFFSETFROM:+0200
TZOFFSETTO:+0100
TZNAME:CET
DTSTART:20241027T010000
END:STANDARD
BEGIN:DAYLIGHT
TZOFFSETFROM:+0100
TZOFFSETTO:+0200
TZNAME:CEST
DTSTART:20250330T010000
END:DAYLIGHT
BEGIN:STANDARD
TZOFFSETFROM:+0200
TZOFFSETTO:+0100
TZNAME:CET
DTSTART:20251026T010000
END:STANDARD
BEGIN:DAYLIGHT
TZOFFSETFROM:+0100
TZOFFSETTO:+0200
TZNAME:CEST
DTSTART:20260329T010000
END:DAYLIGHT
BEGIN:STANDARD
TZOFFSETFROM:+0200
TZOFFSETTO:+0100
TZNAME:CET
DTSTART:20261025T010000
END:STANDARD
END:VTIMEZONE
BEGIN:VEVENT
DTSTART;TZID=Europe/Vienna:20251017T153000
DTEND;TZID=Europe/Vienna:20251017T173000
DTSTAMP:20260421T204204
CREATED:20250916T174919Z
LAST-MODIFIED:20251016T084444Z
UID:10000602-1760715000-1760722200@www.iwagraz.org
SUMMARY:"Ambition and Illusion" Schloss Eggenberg Exhibition Tour
DESCRIPTION:Schloss Eggenberg is celebrating the 400th anniversary! \nActivities Coordinator Corinna R. invites you to join her\, other IWA members\, and international members of the community on an insightful English tour of the palace and its 24 state rooms\, which have been turned into showcases for illuminating artwork detailing the failures and successes of the Eggenberg family. \nPlease sign up as we need a minimum number of people to qualify for the English guide! \nThe entrance fee for the exhibition is 15 Euros per person\, while the cost of the guide will be covered by IWA. Please bring CASH to pay for your ticket! \nMeeting place is at the park entrance at 15.30. \nLearn more about the exhibition here.
URL:https://www.iwagraz.org/event/visit-to-schloss-eggenberg-exhibition/
LOCATION:Schloss Eggenberg\, Eggenberger Alle 90\, Graz\, 8020\, Austria
CATEGORIES:Activities
ATTACH;FMTTYPE=image/jpeg:https://www.iwagraz.org/wp-content/uploads/2025/09/Schloss-Eggenberg-exhibition.jpg
END:VEVENT
END:VCALENDAR