BEGIN:VCALENDAR
VERSION:2.0
PRODID:-//IWA Graz - ECPv6.15.20//NONSGML v1.0//EN
CALSCALE:GREGORIAN
METHOD:PUBLISH
X-WR-CALNAME:IWA Graz
X-ORIGINAL-URL:https://www.iwagraz.org
X-WR-CALDESC:Events for IWA Graz
REFRESH-INTERVAL;VALUE=DURATION:PT1H
X-Robots-Tag:noindex
X-PUBLISHED-TTL:PT1H
BEGIN:VTIMEZONE
TZID:Europe/Vienna
BEGIN:DAYLIGHT
TZOFFSETFROM:+0100
TZOFFSETTO:+0200
TZNAME:CEST
DTSTART:20250330T010000
END:DAYLIGHT
BEGIN:STANDARD
TZOFFSETFROM:+0200
TZOFFSETTO:+0100
TZNAME:CET
DTSTART:20251026T010000
END:STANDARD
BEGIN:DAYLIGHT
TZOFFSETFROM:+0100
TZOFFSETTO:+0200
TZNAME:CEST
DTSTART:20260329T010000
END:DAYLIGHT
BEGIN:STANDARD
TZOFFSETFROM:+0200
TZOFFSETTO:+0100
TZNAME:CET
DTSTART:20261025T010000
END:STANDARD
BEGIN:DAYLIGHT
TZOFFSETFROM:+0100
TZOFFSETTO:+0200
TZNAME:CEST
DTSTART:20270328T010000
END:DAYLIGHT
BEGIN:STANDARD
TZOFFSETFROM:+0200
TZOFFSETTO:+0100
TZNAME:CET
DTSTART:20271031T010000
END:STANDARD
END:VTIMEZONE
BEGIN:VEVENT
DTSTART;TZID=Europe/Vienna:20260512T140000
DTEND;TZID=Europe/Vienna:20260512T160000
DTSTAMP:20260421T171420
CREATED:20260312T141108Z
LAST-MODIFIED:20260312T141108Z
UID:10000677-1778594400-1778601600@www.iwagraz.org
SUMMARY:Mums & Tots Meetup
DESCRIPTION:The Mums & Tots group meets regularly\, once a month. \nBring your little ones and join Anna M. for a trip to Överseepark in Graz. For easier communication\, we recommed getting in touch with Anna via the Whatsapp group or contact a Board member to be put in touch.
URL:https://www.iwagraz.org/event/mums-tots-meetup-7/
LOCATION:Oeverseepark\, Albert-Schweitzer-Gasse 36a\, Graz\, 8020\, Austria
CATEGORIES:Mums & Tots Playgroup
ATTACH;FMTTYPE=image/jpeg:https://www.iwagraz.org/wp-content/uploads/2025/09/kids-playing.jpg
END:VEVENT
BEGIN:VEVENT
DTSTART;TZID=Europe/Vienna:20260609T140000
DTEND;TZID=Europe/Vienna:20260609T160000
DTSTAMP:20260421T171420
CREATED:20260312T141236Z
LAST-MODIFIED:20260312T141236Z
UID:10000678-1781013600-1781020800@www.iwagraz.org
SUMMARY:Mums & Tots Meetup
DESCRIPTION:The Mums & Tots group meets regularly\, once a month. \nBring your little ones and join Anna M. for a trip to Överseepark in Graz. For easier communication\, we recommed getting in touch with Anna via the Whatsapp group or contact a Board member to be put in touch.
URL:https://www.iwagraz.org/event/mums-tots-meetup-8/
LOCATION:Oeverseepark\, Albert-Schweitzer-Gasse 36a\, Graz\, 8020\, Austria
CATEGORIES:Mums & Tots Playgroup
ATTACH;FMTTYPE=image/jpeg:https://www.iwagraz.org/wp-content/uploads/2025/09/kids-playing.jpg
END:VEVENT
END:VCALENDAR