BEGIN:VCALENDAR
VERSION:2.0
PRODID:-//IWA Graz - ECPv6.15.20//NONSGML v1.0//EN
CALSCALE:GREGORIAN
METHOD:PUBLISH
X-ORIGINAL-URL:https://www.iwagraz.org
X-WR-CALDESC:Events for IWA Graz
REFRESH-INTERVAL;VALUE=DURATION:PT1H
X-Robots-Tag:noindex
X-PUBLISHED-TTL:PT1H
BEGIN:VTIMEZONE
TZID:Europe/Vienna
BEGIN:DAYLIGHT
TZOFFSETFROM:+0100
TZOFFSETTO:+0200
TZNAME:CEST
DTSTART:20240331T010000
END:DAYLIGHT
BEGIN:STANDARD
TZOFFSETFROM:+0200
TZOFFSETTO:+0100
TZNAME:CET
DTSTART:20241027T010000
END:STANDARD
BEGIN:DAYLIGHT
TZOFFSETFROM:+0100
TZOFFSETTO:+0200
TZNAME:CEST
DTSTART:20250330T010000
END:DAYLIGHT
BEGIN:STANDARD
TZOFFSETFROM:+0200
TZOFFSETTO:+0100
TZNAME:CET
DTSTART:20251026T010000
END:STANDARD
BEGIN:DAYLIGHT
TZOFFSETFROM:+0100
TZOFFSETTO:+0200
TZNAME:CEST
DTSTART:20260329T010000
END:DAYLIGHT
BEGIN:STANDARD
TZOFFSETFROM:+0200
TZOFFSETTO:+0100
TZNAME:CET
DTSTART:20261025T010000
END:STANDARD
BEGIN:DAYLIGHT
TZOFFSETFROM:+0100
TZOFFSETTO:+0200
TZNAME:CEST
DTSTART:20270328T010000
END:DAYLIGHT
BEGIN:STANDARD
TZOFFSETFROM:+0200
TZOFFSETTO:+0100
TZNAME:CET
DTSTART:20271031T010000
END:STANDARD
END:VTIMEZONE
BEGIN:VEVENT
DTSTART;TZID=Europe/Vienna:20260414T140000
DTEND;TZID=Europe/Vienna:20260414T160000
DTSTAMP:20260421T184412
CREATED:20260312T140738Z
LAST-MODIFIED:20260312T140738Z
UID:10000676-1776175200-1776182400@www.iwagraz.org
SUMMARY:Mums & Tots Meetup
DESCRIPTION:The Mums & Tots group meets regularly\, once a month. \nBring your little ones and join Anna M. for a trip to Överseepark in Graz. For easier communication\, we recommed getting in touch with Anna via the Whatsapp group or contact a Board member to be put in touch.
URL:https://www.iwagraz.org/event/mums-tots-meetup-april/
LOCATION:Oeverseepark\, Albert-Schweitzer-Gasse 36a\, Graz\, 8020\, Austria
CATEGORIES:Mums & Tots Playgroup
ATTACH;FMTTYPE=image/jpeg:https://www.iwagraz.org/wp-content/uploads/2025/09/kids-playing.jpg
END:VEVENT
BEGIN:VEVENT
DTSTART;TZID=Europe/Vienna:20251015T140000
DTEND;TZID=Europe/Vienna:20251015T160000
DTSTAMP:20260421T184412
CREATED:20250912T070426Z
LAST-MODIFIED:20250912T070426Z
UID:10000600-1760536800-1760544000@www.iwagraz.org
SUMMARY:Mums & Tots Meetup
DESCRIPTION:The Mums & Tots group meets regularly every two weeks. \nBring your little ones and join Anna M. for varied activities. For easier communication\, we recommed getting in touch with Anna via the Whatsapp group or contact a Board member to be put in touch.
URL:https://www.iwagraz.org/event/mums-tots-meetup-3/
LOCATION:Oeverseepark\, Albert-Schweitzer-Gasse 36a\, Graz\, 8020\, Austria
CATEGORIES:Mums & Tots Playgroup
ATTACH;FMTTYPE=image/jpeg:https://www.iwagraz.org/wp-content/uploads/2025/09/kids-playing.jpg
END:VEVENT
BEGIN:VEVENT
DTSTART;TZID=Europe/Vienna:20251001T140000
DTEND;TZID=Europe/Vienna:20251001T160000
DTSTAMP:20260421T184412
CREATED:20250912T070322Z
LAST-MODIFIED:20250912T070322Z
UID:10000599-1759327200-1759334400@www.iwagraz.org
SUMMARY:Mums & Tots Meetup
DESCRIPTION:The Mums & Tots group meets regularly every two weeks. \nBring your little ones and join Anna M. for varied activities. For easier communication\, we recommed getting in touch with Anna via the Whatsapp group or contact a Board member to be put in touch.
URL:https://www.iwagraz.org/event/mums-tots-meetup-2/
LOCATION:Oeverseepark\, Albert-Schweitzer-Gasse 36a\, Graz\, 8020\, Austria
CATEGORIES:Mums & Tots Playgroup
ATTACH;FMTTYPE=image/jpeg:https://www.iwagraz.org/wp-content/uploads/2025/09/kids-playing.jpg
END:VEVENT
BEGIN:VEVENT
DTSTART;TZID=Europe/Vienna:20250917T140000
DTEND;TZID=Europe/Vienna:20250917T160000
DTSTAMP:20260421T184412
CREATED:20250908T181446Z
LAST-MODIFIED:20250912T070120Z
UID:10000598-1758117600-1758124800@www.iwagraz.org
SUMMARY:Mums & Tots Meetup
DESCRIPTION:The Mums & Tots group meets regularly every two weeks. \nBring your little ones and join Anna M. for varied activities. For easier communication\, we recommed getting in touch with Anna via the Whatsapp group or contact a Board member to be put in touch.
URL:https://www.iwagraz.org/event/mums-tots-meetup/
LOCATION:Oeverseepark\, Albert-Schweitzer-Gasse 36a\, Graz\, 8020\, Austria
CATEGORIES:Mums & Tots Playgroup
ATTACH;FMTTYPE=image/jpeg:https://www.iwagraz.org/wp-content/uploads/2025/09/kids-playing.jpg
END:VEVENT
END:VCALENDAR