BEGIN:VCALENDAR
VERSION:2.0
PRODID:-//IWA Graz - ECPv6.15.20//NONSGML v1.0//EN
CALSCALE:GREGORIAN
METHOD:PUBLISH
X-WR-CALNAME:IWA Graz
X-ORIGINAL-URL:https://www.iwagraz.org
X-WR-CALDESC:Events for IWA Graz
REFRESH-INTERVAL;VALUE=DURATION:PT1H
X-Robots-Tag:noindex
X-PUBLISHED-TTL:PT1H
BEGIN:VTIMEZONE
TZID:Europe/Vienna
BEGIN:DAYLIGHT
TZOFFSETFROM:+0100
TZOFFSETTO:+0200
TZNAME:CEST
DTSTART:20240331T010000
END:DAYLIGHT
BEGIN:STANDARD
TZOFFSETFROM:+0200
TZOFFSETTO:+0100
TZNAME:CET
DTSTART:20241027T010000
END:STANDARD
BEGIN:DAYLIGHT
TZOFFSETFROM:+0100
TZOFFSETTO:+0200
TZNAME:CEST
DTSTART:20250330T010000
END:DAYLIGHT
BEGIN:STANDARD
TZOFFSETFROM:+0200
TZOFFSETTO:+0100
TZNAME:CET
DTSTART:20251026T010000
END:STANDARD
BEGIN:DAYLIGHT
TZOFFSETFROM:+0100
TZOFFSETTO:+0200
TZNAME:CEST
DTSTART:20260329T010000
END:DAYLIGHT
BEGIN:STANDARD
TZOFFSETFROM:+0200
TZOFFSETTO:+0100
TZNAME:CET
DTSTART:20261025T010000
END:STANDARD
END:VTIMEZONE
BEGIN:VEVENT
DTSTART;TZID=Europe/Vienna:20251112T100000
DTEND;TZID=Europe/Vienna:20251112T120000
DTSTAMP:20260421T190600
CREATED:20251028T105144Z
LAST-MODIFIED:20251110T141447Z
UID:10000623-1762941600-1762948800@www.iwagraz.org
SUMMARY:Disc Golf at Rosenhain
DESCRIPTION:IWA has enjoyed a 2-year cooperation with Jukus Verein in the Pro Aktiv Project. The last event should be a blast – come and learn how to play “disc golf” in the lovely Rosenhain park. \nPlease come prepared for November weather and possibly muddy and wet terrain as the course takes us through some woods and off the path (wear trainers or other sturdy shoes). \nDisc golf is a fun activity for all ages. No previous knowledge is required! \nJukus will provide the discs. \n  \nPlease sign up for this event so we will have enough equipment for you. \n  \nMore information on disc golf at Rosenhain here. \n  \nIMPORTANT – the location: \nPlease be aware that there are a number of entrances to Rosenhain!!! We will meet at the entrance which is across from the bus stop “Rosenberg” (bus line 30) NEXT TO Volksschule Graz Rosenberg. The school (Volksschule) is located on Rosenberggürtel 12\, 8010. \nImage by jatocreate on Pixabay \n 
URL:https://www.iwagraz.org/event/disc-golf-at-rosenhain/
LOCATION:next to Volksschule Rosenbeg\, Rosenberggürtel 12\, Graz\, 8010\, Austria
CATEGORIES:Activities
ATTACH;FMTTYPE=image/jpeg:https://www.iwagraz.org/wp-content/uploads/2025/10/Disc-golf.jpg
END:VEVENT
END:VCALENDAR