BEGIN:VCALENDAR
VERSION:2.0
PRODID:-//IWA Graz - ECPv6.15.20//NONSGML v1.0//EN
CALSCALE:GREGORIAN
METHOD:PUBLISH
X-ORIGINAL-URL:https://www.iwagraz.org
X-WR-CALDESC:Events for IWA Graz
REFRESH-INTERVAL;VALUE=DURATION:PT1H
X-Robots-Tag:noindex
X-PUBLISHED-TTL:PT1H
BEGIN:VTIMEZONE
TZID:Europe/Vienna
BEGIN:DAYLIGHT
TZOFFSETFROM:+0100
TZOFFSETTO:+0200
TZNAME:CEST
DTSTART:20240331T010000
END:DAYLIGHT
BEGIN:STANDARD
TZOFFSETFROM:+0200
TZOFFSETTO:+0100
TZNAME:CET
DTSTART:20241027T010000
END:STANDARD
BEGIN:DAYLIGHT
TZOFFSETFROM:+0100
TZOFFSETTO:+0200
TZNAME:CEST
DTSTART:20250330T010000
END:DAYLIGHT
BEGIN:STANDARD
TZOFFSETFROM:+0200
TZOFFSETTO:+0100
TZNAME:CET
DTSTART:20251026T010000
END:STANDARD
BEGIN:DAYLIGHT
TZOFFSETFROM:+0100
TZOFFSETTO:+0200
TZNAME:CEST
DTSTART:20260329T010000
END:DAYLIGHT
BEGIN:STANDARD
TZOFFSETFROM:+0200
TZOFFSETTO:+0100
TZNAME:CET
DTSTART:20261025T010000
END:STANDARD
END:VTIMEZONE
BEGIN:VEVENT
DTSTART;TZID=Europe/Vienna:20251026T100000
DTEND;TZID=Europe/Vienna:20251026T120000
DTSTAMP:20260421T190531
CREATED:20251002T081855Z
LAST-MODIFIED:20251018T091913Z
UID:10000613-1761472800-1761480000@www.iwagraz.org
SUMMARY:Neue Galerie visit on the Austrian National Holiday 2025
DESCRIPTION:Join member Christine C and other IWA members on a visit to the Neue Galerie to see the exhibition by the famous Austrian artist Wolfgang Hollegha.\n\nWe will meet at the top of the escalators in the Joanneum at 10 am.  Entrance to the gallery and museum is free on the National Holiday.\n\nAfterwards\, we will go to a nearby cafe for a snack and drink.
URL:https://www.iwagraz.org/event/iwa-museum-visit-on-the-austrian-national-holiday-2025/
LOCATION:Neue Galerie\, Joanneumsviertel\, Graz\, Austria
CATEGORIES:Activities
ATTACH;FMTTYPE=image/jpeg:https://www.iwagraz.org/wp-content/uploads/2023/08/Art-museum.jpg
END:VEVENT
END:VCALENDAR