BEGIN:VCALENDAR
VERSION:2.0
PRODID:-//IWA Graz - ECPv6.15.20//NONSGML v1.0//EN
CALSCALE:GREGORIAN
METHOD:PUBLISH
X-ORIGINAL-URL:https://www.iwagraz.org
X-WR-CALDESC:Events for IWA Graz
REFRESH-INTERVAL;VALUE=DURATION:PT1H
X-Robots-Tag:noindex
X-PUBLISHED-TTL:PT1H
BEGIN:VTIMEZONE
TZID:Europe/Vienna
BEGIN:DAYLIGHT
TZOFFSETFROM:+0100
TZOFFSETTO:+0200
TZNAME:CEST
DTSTART:20240331T010000
END:DAYLIGHT
BEGIN:STANDARD
TZOFFSETFROM:+0200
TZOFFSETTO:+0100
TZNAME:CET
DTSTART:20241027T010000
END:STANDARD
BEGIN:DAYLIGHT
TZOFFSETFROM:+0100
TZOFFSETTO:+0200
TZNAME:CEST
DTSTART:20250330T010000
END:DAYLIGHT
BEGIN:STANDARD
TZOFFSETFROM:+0200
TZOFFSETTO:+0100
TZNAME:CET
DTSTART:20251026T010000
END:STANDARD
BEGIN:DAYLIGHT
TZOFFSETFROM:+0100
TZOFFSETTO:+0200
TZNAME:CEST
DTSTART:20260329T010000
END:DAYLIGHT
BEGIN:STANDARD
TZOFFSETFROM:+0200
TZOFFSETTO:+0100
TZNAME:CET
DTSTART:20261025T010000
END:STANDARD
END:VTIMEZONE
BEGIN:VEVENT
DTSTART;TZID=Europe/Vienna:20250407T120000
DTEND;TZID=Europe/Vienna:20250407T140000
DTSTAMP:20260421T184407
CREATED:20250331T171722Z
LAST-MODIFIED:20250331T171722Z
UID:10000550-1744027200-1744034400@www.iwagraz.org
SUMMARY:Lunch & Munch at Namaste
DESCRIPTION:Our Lunch & Munch destination in April is the lovely Namaste restaurant just off Leonhardstrasse (at the corner of Gartengasse). \nCome and enjoy some Nepalese cuisine with us! There is a special lunch menu on – see the website for details. \nSo we can reserve a big enough table\, please RSVP via the whatsapp or signal groups or write us a message on the Facebook page!
URL:https://www.iwagraz.org/event/lunch-munch-at-namaste/
LOCATION:Namaste\, Gartengasse 1\, Graz\, 8010\, Austria
CATEGORIES:Activities
ATTACH;FMTTYPE=image/jpeg:https://www.iwagraz.org/wp-content/uploads/2025/03/Nepalese-mountains.jpg
END:VEVENT
END:VCALENDAR