BEGIN:VCALENDAR
VERSION:2.0
PRODID:-//IWA Graz - ECPv6.15.20//NONSGML v1.0//EN
CALSCALE:GREGORIAN
METHOD:PUBLISH
X-WR-CALNAME:IWA Graz
X-ORIGINAL-URL:https://www.iwagraz.org
X-WR-CALDESC:Events for IWA Graz
REFRESH-INTERVAL;VALUE=DURATION:PT1H
X-Robots-Tag:noindex
X-PUBLISHED-TTL:PT1H
BEGIN:VTIMEZONE
TZID:Europe/Vienna
BEGIN:DAYLIGHT
TZOFFSETFROM:+0100
TZOFFSETTO:+0200
TZNAME:CEST
DTSTART:20240331T010000
END:DAYLIGHT
BEGIN:STANDARD
TZOFFSETFROM:+0200
TZOFFSETTO:+0100
TZNAME:CET
DTSTART:20241027T010000
END:STANDARD
BEGIN:DAYLIGHT
TZOFFSETFROM:+0100
TZOFFSETTO:+0200
TZNAME:CEST
DTSTART:20250330T010000
END:DAYLIGHT
BEGIN:STANDARD
TZOFFSETFROM:+0200
TZOFFSETTO:+0100
TZNAME:CET
DTSTART:20251026T010000
END:STANDARD
BEGIN:DAYLIGHT
TZOFFSETFROM:+0100
TZOFFSETTO:+0200
TZNAME:CEST
DTSTART:20260329T010000
END:DAYLIGHT
BEGIN:STANDARD
TZOFFSETFROM:+0200
TZOFFSETTO:+0100
TZNAME:CET
DTSTART:20261025T010000
END:STANDARD
END:VTIMEZONE
BEGIN:VEVENT
DTSTART;TZID=Europe/Vienna:20251113T180000
DTEND;TZID=Europe/Vienna:20251113T200000
DTSTAMP:20260421T190555
CREATED:20251106T164908Z
LAST-MODIFIED:20251106T165155Z
UID:10000629-1763056800-1763064000@www.iwagraz.org
SUMMARY:Happy Hour in November
DESCRIPTION:The next Happy Hour will take place at Lokal Müller in the Villefortgasse. \nThey have delicious tapas and great drinks. \nDue to limited space they need to know how many persons will attend. \nPlease note\, this Happy Hour will begin slightly later than usual at 6 pm. \nPlease let us know via nuudel who will be there by signing up! \nLooking forward to it.\nCorinna and Bettina
URL:https://www.iwagraz.org/event/happy-hour-in-november/
LOCATION:Lokal Müller\, Villefortgasse 3\, Graz\, 8010\, Austria
CATEGORIES:Activities,Happy Hour
ATTACH;FMTTYPE=image/jpeg:https://www.iwagraz.org/wp-content/uploads/2025/05/HH_June2025.jpg
END:VEVENT
END:VCALENDAR