BEGIN:VCALENDAR
VERSION:2.0
PRODID:-//IWA Graz - ECPv6.15.20//NONSGML v1.0//EN
CALSCALE:GREGORIAN
METHOD:PUBLISH
X-WR-CALNAME:IWA Graz
X-ORIGINAL-URL:https://www.iwagraz.org
X-WR-CALDESC:Events for IWA Graz
REFRESH-INTERVAL;VALUE=DURATION:PT1H
X-Robots-Tag:noindex
X-PUBLISHED-TTL:PT1H
BEGIN:VTIMEZONE
TZID:Europe/Vienna
BEGIN:DAYLIGHT
TZOFFSETFROM:+0100
TZOFFSETTO:+0200
TZNAME:CEST
DTSTART:20240331T010000
END:DAYLIGHT
BEGIN:STANDARD
TZOFFSETFROM:+0200
TZOFFSETTO:+0100
TZNAME:CET
DTSTART:20241027T010000
END:STANDARD
BEGIN:DAYLIGHT
TZOFFSETFROM:+0100
TZOFFSETTO:+0200
TZNAME:CEST
DTSTART:20250330T010000
END:DAYLIGHT
BEGIN:STANDARD
TZOFFSETFROM:+0200
TZOFFSETTO:+0100
TZNAME:CET
DTSTART:20251026T010000
END:STANDARD
BEGIN:DAYLIGHT
TZOFFSETFROM:+0100
TZOFFSETTO:+0200
TZNAME:CEST
DTSTART:20260329T010000
END:DAYLIGHT
BEGIN:STANDARD
TZOFFSETFROM:+0200
TZOFFSETTO:+0100
TZNAME:CET
DTSTART:20261025T010000
END:STANDARD
END:VTIMEZONE
BEGIN:VEVENT
DTSTART;TZID=Europe/Vienna:20251210T163000
DTEND;TZID=Europe/Vienna:20251210T180000
DTSTAMP:20260421T204332
CREATED:20251119T144942Z
LAST-MODIFIED:20251209T160741Z
UID:10000633-1765384200-1765389600@www.iwagraz.org
SUMMARY:Advent Tour with Helen P. incl. Glühwein
DESCRIPTION:A snowy (or at least chilly) tour of the city during Advent with certified Graz tour guide and IWA member Helen P. has become a lovely tradition over the last few years. \nWe request a small donation which will go to support VinziNest. \nMeeting place is in front of the Eiskrippe (nativity scene made of ice) at Landhaushof (enter from Herrengasse). \nAfter the tour\, we will have a Glühwein at “Die Punscherei” on Färberplatz\, next to the school Ferdinandeum. We will be there from approx. 18.00 if you just want to join for a hot drink and a chat. \n 
URL:https://www.iwagraz.org/event/advent-tour-with-helen-p-2/
LOCATION:Landhaushof\, Herrengasse 20a\, Graz\, 8010\, Austria
CATEGORIES:Activities
ATTACH;FMTTYPE=image/jpeg:https://www.iwagraz.org/wp-content/uploads/2025/11/Advent-in-the-city-scaled.jpg
END:VEVENT
END:VCALENDAR