BEGIN:VCALENDAR
VERSION:2.0
PRODID:-//IWA Graz - ECPv6.15.20//NONSGML v1.0//EN
CALSCALE:GREGORIAN
METHOD:PUBLISH
X-WR-CALNAME:IWA Graz
X-ORIGINAL-URL:https://www.iwagraz.org
X-WR-CALDESC:Events for IWA Graz
REFRESH-INTERVAL;VALUE=DURATION:PT1H
X-Robots-Tag:noindex
X-PUBLISHED-TTL:PT1H
BEGIN:VTIMEZONE
TZID:Europe/Vienna
BEGIN:DAYLIGHT
TZOFFSETFROM:+0100
TZOFFSETTO:+0200
TZNAME:CEST
DTSTART:20230326T010000
END:DAYLIGHT
BEGIN:STANDARD
TZOFFSETFROM:+0200
TZOFFSETTO:+0100
TZNAME:CET
DTSTART:20231029T010000
END:STANDARD
BEGIN:DAYLIGHT
TZOFFSETFROM:+0100
TZOFFSETTO:+0200
TZNAME:CEST
DTSTART:20240331T010000
END:DAYLIGHT
BEGIN:STANDARD
TZOFFSETFROM:+0200
TZOFFSETTO:+0100
TZNAME:CET
DTSTART:20241027T010000
END:STANDARD
BEGIN:DAYLIGHT
TZOFFSETFROM:+0100
TZOFFSETTO:+0200
TZNAME:CEST
DTSTART:20250330T010000
END:DAYLIGHT
BEGIN:STANDARD
TZOFFSETFROM:+0200
TZOFFSETTO:+0100
TZNAME:CET
DTSTART:20251026T010000
END:STANDARD
END:VTIMEZONE
BEGIN:VEVENT
DTSTART;TZID=Europe/Vienna:20240701T103000
DTEND;TZID=Europe/Vienna:20240701T133000
DTSTAMP:20260421T210927
CREATED:20240616T085121Z
LAST-MODIFIED:20240616T085254Z
UID:10000415-1719829800-1719840600@www.iwagraz.org
SUMMARY:Canada Day Brunch
DESCRIPTION:Let’s celebrate Canada Day with our Canadian members & friends with some Caesars\, pancakes and maple syrup at Kunsthauscafe Südtirollerplatz! \nThis trendy café is accessible via trams 1\, 4\, 6 and 7 (tram stops right outside on “Südtirolerplatz”). \nHow about wearing something red & white just for fun? \nThe café gets really busy so we need to know who is coming in advance. Please RSVP and sign up through this link by no later than Saturday 29th June. \nSee you there! \n 
URL:https://www.iwagraz.org/event/canada-day-brunch/
LOCATION:Kunsthauscafé\, Südtiroler Pl. 2\, Graz\, 8020\, Austria
CATEGORIES:Activities
ATTACH;FMTTYPE=image/jpeg:https://www.iwagraz.org/wp-content/uploads/2024/06/NationalSymbols-Canada-for-IWA-scaled.jpg
END:VEVENT
END:VCALENDAR