BEGIN:VCALENDAR
VERSION:2.0
PRODID:-//IWA Graz - ECPv6.15.20//NONSGML v1.0//EN
CALSCALE:GREGORIAN
METHOD:PUBLISH
X-WR-CALNAME:IWA Graz
X-ORIGINAL-URL:https://www.iwagraz.org
X-WR-CALDESC:Events for IWA Graz
REFRESH-INTERVAL;VALUE=DURATION:PT1H
X-Robots-Tag:noindex
X-PUBLISHED-TTL:PT1H
BEGIN:VTIMEZONE
TZID:Europe/Vienna
BEGIN:DAYLIGHT
TZOFFSETFROM:+0100
TZOFFSETTO:+0200
TZNAME:CEST
DTSTART:20230326T010000
END:DAYLIGHT
BEGIN:STANDARD
TZOFFSETFROM:+0200
TZOFFSETTO:+0100
TZNAME:CET
DTSTART:20231029T010000
END:STANDARD
BEGIN:DAYLIGHT
TZOFFSETFROM:+0100
TZOFFSETTO:+0200
TZNAME:CEST
DTSTART:20240331T010000
END:DAYLIGHT
BEGIN:STANDARD
TZOFFSETFROM:+0200
TZOFFSETTO:+0100
TZNAME:CET
DTSTART:20241027T010000
END:STANDARD
BEGIN:DAYLIGHT
TZOFFSETFROM:+0100
TZOFFSETTO:+0200
TZNAME:CEST
DTSTART:20250330T010000
END:DAYLIGHT
BEGIN:STANDARD
TZOFFSETFROM:+0200
TZOFFSETTO:+0100
TZNAME:CET
DTSTART:20251026T010000
END:STANDARD
END:VTIMEZONE
BEGIN:VEVENT
DTSTART;TZID=Europe/Vienna:20241213T160000
DTEND;TZID=Europe/Vienna:20241213T183000
DTSTAMP:20260421T191416
CREATED:20241124T181120Z
LAST-MODIFIED:20241211T175809Z
UID:10000451-1734105600-1734114600@www.iwagraz.org
SUMMARY:(Advent in Graz series) Advent in Joanneumviertel
DESCRIPTION:We will meet at the top of the escalator in the Joanneumviertel and then explore this beautiful Advent market\, which features many handmade crafts.\n\nDrinks afterwards (from around 5 pm) at Klapotetz Weinbar. Please note the change of venue! This lovely wine bar is in an arcade called “Generalihof” which goes off from Herrengasse 9!
URL:https://www.iwagraz.org/event/advent-in-graz-series-advent-in-lesliehof/
LOCATION:Joanneumsviertel\, Joanneumsviertel\, Graz\, 8010\, Austria
CATEGORIES:Activities
ATTACH;FMTTYPE=image/jpeg:https://www.iwagraz.org/wp-content/uploads/2024/11/Xmas-market.jpg
END:VEVENT
BEGIN:VEVENT
DTSTART;TZID=Europe/Vienna:20241026T100000
DTEND;TZID=Europe/Vienna:20241026T120000
DTSTAMP:20260421T191416
CREATED:20241007T174315Z
LAST-MODIFIED:20241023T150922Z
UID:10000438-1729936800-1729944000@www.iwagraz.org
SUMMARY:Visit to Two Art Exhibitions
DESCRIPTION:On the National Holiday we invite you to join Christine C. on a visit to the Neue Galerie to see two art exhibitions:\n“Unmistakably Waldorf” and the steirischerherbst’24 “Horror Patriae”.\n\nThe group will meet at the top of the escalators in the Joanneum quarter at 10 am for a browse round these two exhibitions.\nAfterwards there will be time to stop at a nearby cafe for coffee and cake!\nPlease email Christine or sign up (coming soon) if you are interested.
URL:https://www.iwagraz.org/event/visit-to-2-art-exhibitions/
LOCATION:Joanneumsviertel\, Joanneumsviertel\, Graz\, 8010\, Austria
CATEGORIES:Activities
ATTACH;FMTTYPE=image/jpeg:https://www.iwagraz.org/wp-content/uploads/2023/08/Art-museum.jpg
END:VEVENT
BEGIN:VEVENT
DTSTART;TZID=Europe/Vienna:20240519T100000
DTEND;TZID=Europe/Vienna:20240519T120000
DTSTAMP:20260421T191416
CREATED:20240513T185758Z
LAST-MODIFIED:20240513T191834Z
UID:10000408-1716112800-1716120000@www.iwagraz.org
SUMMARY:Museum Visit: Neue Galerie
DESCRIPTION:19th May is International Museums Day and entrance to a number of museums is free.\nJoin Christine C. to visit the exhibition called “Show” at Neue Galerie. This is a selection of paintings from the gallery collection.\n\nWe will meet at the top of the Joanneum escalators at 10 am.\nAfterwards we will go for coffee and cake somewhere nearby.\n\nPlease sign up so we know how many are coming!\n\nPLEASE NOTE:\nOn 19th May all the museums of the Universalmuseum Joanneum group will be free entry. Other museums in Graz which will have free admission:\nBotanical Garden\, Diözesanmuseum\, FRida & freD – Das Grazer Kindermuseum\, Graz Museum\, Graz Museum Schlossberg\, Museum der Wahrnehmung\, Salon Stolz and Hans Gross Kriminalmuseum
URL:https://www.iwagraz.org/event/museum-visit-neue-galerie/
LOCATION:Joanneumsviertel\, Joanneumsviertel\, Graz\, 8010\, Austria
CATEGORIES:Activities
ATTACH;FMTTYPE=image/png:https://www.iwagraz.org/wp-content/uploads/2024/05/Shhow-art-exhib.png
END:VEVENT
END:VCALENDAR