BEGIN:VCALENDAR
VERSION:2.0
PRODID:-//IWA Graz - ECPv6.15.20//NONSGML v1.0//EN
CALSCALE:GREGORIAN
METHOD:PUBLISH
X-ORIGINAL-URL:https://www.iwagraz.org
X-WR-CALDESC:Events for IWA Graz
REFRESH-INTERVAL;VALUE=DURATION:PT1H
X-Robots-Tag:noindex
X-PUBLISHED-TTL:PT1H
BEGIN:VTIMEZONE
TZID:Europe/Vienna
BEGIN:DAYLIGHT
TZOFFSETFROM:+0100
TZOFFSETTO:+0200
TZNAME:CEST
DTSTART:20240331T010000
END:DAYLIGHT
BEGIN:STANDARD
TZOFFSETFROM:+0200
TZOFFSETTO:+0100
TZNAME:CET
DTSTART:20241027T010000
END:STANDARD
BEGIN:DAYLIGHT
TZOFFSETFROM:+0100
TZOFFSETTO:+0200
TZNAME:CEST
DTSTART:20250330T010000
END:DAYLIGHT
BEGIN:STANDARD
TZOFFSETFROM:+0200
TZOFFSETTO:+0100
TZNAME:CET
DTSTART:20251026T010000
END:STANDARD
BEGIN:DAYLIGHT
TZOFFSETFROM:+0100
TZOFFSETTO:+0200
TZNAME:CEST
DTSTART:20260329T010000
END:DAYLIGHT
BEGIN:STANDARD
TZOFFSETFROM:+0200
TZOFFSETTO:+0100
TZNAME:CET
DTSTART:20261025T010000
END:STANDARD
END:VTIMEZONE
BEGIN:VEVENT
DTSTART;TZID=Europe/Vienna:20250308T100000
DTEND;TZID=Europe/Vienna:20250308T120000
DTSTAMP:20260421T193220
CREATED:20250217T070618Z
LAST-MODIFIED:20250217T071031Z
UID:10000540-1741428000-1741435200@www.iwagraz.org
SUMMARY:Member-invited: Int. Women's Day Business Walk
DESCRIPTION:To celebrate International Women’s Day\, IWA President Caitlin Ahern warmly invites members to a shopping tour of women-owned businesses in Graz\, which she is organizing through Democrats Abroad Austria. Join us to discover women-owned businesses we can support as ethical alternatives to big tech companies.\nLet’s empower women business owners together!\n\nAfterwards\, you are welcome to join us for lunch at the delicious Limes Cafe\, which is also women-owned.\n\nPlease sign up in advance so we know how many to reserve for.
URL:https://www.iwagraz.org/event/member-invited-int-womens-day-business-walk/
LOCATION:(In front of) Martin Auer\, Dietrichsteinplatz 13\, Graz\, 8010\, Austria
CATEGORIES:Invited
ATTACH;FMTTYPE=image/jpeg:https://www.iwagraz.org/wp-content/uploads/2025/02/womens-day-3198004_1280.jpg
ORGANIZER;CN="IWA Invited":MAILTO:iwagraz@gmail.com
END:VEVENT
END:VCALENDAR