BEGIN:VCALENDAR
VERSION:2.0
PRODID:-//IWA Graz - ECPv6.15.20//NONSGML v1.0//EN
CALSCALE:GREGORIAN
METHOD:PUBLISH
X-ORIGINAL-URL:https://www.iwagraz.org
X-WR-CALDESC:Events for IWA Graz
REFRESH-INTERVAL;VALUE=DURATION:PT1H
X-Robots-Tag:noindex
X-PUBLISHED-TTL:PT1H
BEGIN:VTIMEZONE
TZID:Europe/Vienna
BEGIN:DAYLIGHT
TZOFFSETFROM:+0100
TZOFFSETTO:+0200
TZNAME:CEST
DTSTART:20230326T010000
END:DAYLIGHT
BEGIN:STANDARD
TZOFFSETFROM:+0200
TZOFFSETTO:+0100
TZNAME:CET
DTSTART:20231029T010000
END:STANDARD
BEGIN:DAYLIGHT
TZOFFSETFROM:+0100
TZOFFSETTO:+0200
TZNAME:CEST
DTSTART:20240331T010000
END:DAYLIGHT
BEGIN:STANDARD
TZOFFSETFROM:+0200
TZOFFSETTO:+0100
TZNAME:CET
DTSTART:20241027T010000
END:STANDARD
BEGIN:DAYLIGHT
TZOFFSETFROM:+0100
TZOFFSETTO:+0200
TZNAME:CEST
DTSTART:20250330T010000
END:DAYLIGHT
BEGIN:STANDARD
TZOFFSETFROM:+0200
TZOFFSETTO:+0100
TZNAME:CET
DTSTART:20251026T010000
END:STANDARD
END:VTIMEZONE
BEGIN:VEVENT
DTSTART;TZID=Europe/Vienna:20240608T150000
DTEND;TZID=Europe/Vienna:20240608T180000
DTSTAMP:20260421T204036
CREATED:20240505T182438Z
LAST-MODIFIED:20240506T172153Z
UID:10000403-1717858800-1717869600@www.iwagraz.org
SUMMARY:30th Anniversary International Tea Party
DESCRIPTION:Believe it or not\, the year 2024 marks 30 years of our wonderful Club!\n\nSince 1994\, the IWA has been bringing English-speaking women together to promote cross-cultural respect\, provide an atmosphere of friendship and support\, and raise funds to support community and charitable organizations (especially those helping women and children).\n\nWe invite you to join us in celebrating three decades of friendship and community at this special event and enjoy an afternoon of fragrant teas\, scrumptious sweet and savory treats\, and wonderful company. This in-person gathering promises to be a memorable occasion filled with laughter\, reminiscing\, and good cheer.\n\nLet’s raise a cup to thirty years of togetherness!\n\nReserve your space soon and purchase your ticket (see the signup for all information about ticket fees and how to purchase tickets).
URL:https://www.iwagraz.org/event/30th-anniversary-international-tea-party/
LOCATION:Hotel Weitzer\, Grieskai 12\, Graz\, 8020\, Austria
CATEGORIES:General Meeting
ATTACH;FMTTYPE=image/jpeg:https://www.iwagraz.org/wp-content/uploads/2024/05/30-years-IWA.jpg
END:VEVENT
END:VCALENDAR