BEGIN:VCALENDAR
VERSION:2.0
PRODID:-//IWA Graz - ECPv6.15.20//NONSGML v1.0//EN
CALSCALE:GREGORIAN
METHOD:PUBLISH
X-ORIGINAL-URL:https://www.iwagraz.org
X-WR-CALDESC:Events for IWA Graz
REFRESH-INTERVAL;VALUE=DURATION:PT1H
X-Robots-Tag:noindex
X-PUBLISHED-TTL:PT1H
BEGIN:VTIMEZONE
TZID:Europe/Vienna
BEGIN:DAYLIGHT
TZOFFSETFROM:+0100
TZOFFSETTO:+0200
TZNAME:CEST
DTSTART:20230326T010000
END:DAYLIGHT
BEGIN:STANDARD
TZOFFSETFROM:+0200
TZOFFSETTO:+0100
TZNAME:CET
DTSTART:20231029T010000
END:STANDARD
BEGIN:DAYLIGHT
TZOFFSETFROM:+0100
TZOFFSETTO:+0200
TZNAME:CEST
DTSTART:20240331T010000
END:DAYLIGHT
BEGIN:STANDARD
TZOFFSETFROM:+0200
TZOFFSETTO:+0100
TZNAME:CET
DTSTART:20241027T010000
END:STANDARD
BEGIN:DAYLIGHT
TZOFFSETFROM:+0100
TZOFFSETTO:+0200
TZNAME:CEST
DTSTART:20250330T010000
END:DAYLIGHT
BEGIN:STANDARD
TZOFFSETFROM:+0200
TZOFFSETTO:+0100
TZNAME:CET
DTSTART:20251026T010000
END:STANDARD
BEGIN:DAYLIGHT
TZOFFSETFROM:+0100
TZOFFSETTO:+0200
TZNAME:CEST
DTSTART:20260329T010000
END:DAYLIGHT
BEGIN:STANDARD
TZOFFSETFROM:+0200
TZOFFSETTO:+0100
TZNAME:CET
DTSTART:20261025T010000
END:STANDARD
END:VTIMEZONE
BEGIN:VEVENT
DTSTART;TZID=Europe/Vienna:20251011T090000
DTEND;TZID=Europe/Vienna:20251011T140000
DTSTAMP:20260421T211122
CREATED:20250522T122500Z
LAST-MODIFIED:20250530T103502Z
UID:10000578-1760173200-1760191200@www.iwagraz.org
SUMMARY:2025 Annual English Book Fair
DESCRIPTION:Join us for the IWA’s biggest fundraiser of the year and find great deals on gently used English books on Saturday\, October 11\, 9 a.m. – 2 p.m. in the Heilandskirche Pfarrsaal (Kaiser-Josef-Platz 8)! \nThis year\, our proceeds will go to benefit the organization Kinder.Leben auf Zeit. \nPlease help spread the word by sharing our public Facebook event. \nHave English books to donate to our sale? The IWA can accept books on Friday afternoon\, October 10\, or upon arrangement. Please contact us to make arrangements for a drop-off.
URL:https://www.iwagraz.org/event/2025-annual-english-book-fair/
LOCATION:Heilandskirche Graz\, Kaiser-Josef-Platz 8\, Graz\, Austria
CATEGORIES:General Meeting
ATTACH;FMTTYPE=image/jpeg:https://www.iwagraz.org/wp-content/uploads/2024/08/Book-Fair-scaled-e1747916660258.jpg
END:VEVENT
BEGIN:VEVENT
DTSTART;TZID=Europe/Vienna:20241005T090000
DTEND;TZID=Europe/Vienna:20241005T130000
DTSTAMP:20260421T211122
CREATED:20240830T160239Z
LAST-MODIFIED:20240922T065332Z
UID:10000431-1728118800-1728133200@www.iwagraz.org
SUMMARY:2024 Annual English Book Fair
DESCRIPTION:Join us for the IWA’s biggest fundraiser of the year and find great deals on gently used English books! \nProceeds go this year to benefit the Tara Counselling Center. \nPlease help spread the word by sharing our public Facebook event. \nHave English books to donate? Bring them on the morning of the sale or contact us.
URL:https://www.iwagraz.org/event/annual-english-book-fair-2024/
LOCATION:Heilandskirche Graz\, Kaiser-Josef-Platz 8\, Graz\, Austria
CATEGORIES:General Meeting
ATTACH;FMTTYPE=image/jpeg:https://www.iwagraz.org/wp-content/uploads/2024/08/Book-Fair-scaled-e1747916660258.jpg
END:VEVENT
END:VCALENDAR