BEGIN:VCALENDAR
VERSION:2.0
PRODID:-//IWA Graz - ECPv6.15.20//NONSGML v1.0//EN
CALSCALE:GREGORIAN
METHOD:PUBLISH
X-WR-CALNAME:IWA Graz
X-ORIGINAL-URL:https://www.iwagraz.org
X-WR-CALDESC:Events for IWA Graz
REFRESH-INTERVAL;VALUE=DURATION:PT1H
X-Robots-Tag:noindex
X-PUBLISHED-TTL:PT1H
BEGIN:VTIMEZONE
TZID:Europe/Vienna
BEGIN:DAYLIGHT
TZOFFSETFROM:+0100
TZOFFSETTO:+0200
TZNAME:CEST
DTSTART:20240331T010000
END:DAYLIGHT
BEGIN:STANDARD
TZOFFSETFROM:+0200
TZOFFSETTO:+0100
TZNAME:CET
DTSTART:20241027T010000
END:STANDARD
BEGIN:DAYLIGHT
TZOFFSETFROM:+0100
TZOFFSETTO:+0200
TZNAME:CEST
DTSTART:20250330T010000
END:DAYLIGHT
BEGIN:STANDARD
TZOFFSETFROM:+0200
TZOFFSETTO:+0100
TZNAME:CET
DTSTART:20251026T010000
END:STANDARD
BEGIN:DAYLIGHT
TZOFFSETFROM:+0100
TZOFFSETTO:+0200
TZNAME:CEST
DTSTART:20260329T010000
END:DAYLIGHT
BEGIN:STANDARD
TZOFFSETFROM:+0200
TZOFFSETTO:+0100
TZNAME:CET
DTSTART:20261025T010000
END:STANDARD
END:VTIMEZONE
BEGIN:VEVENT
DTSTART;TZID=Europe/Vienna:20250221T183000
DTEND;TZID=Europe/Vienna:20250221T210000
DTSTAMP:20260421T191422
CREATED:20250204T122328Z
LAST-MODIFIED:20250204T122328Z
UID:10000477-1740162600-1740171600@www.iwagraz.org
SUMMARY:Pizza Night
DESCRIPTION:Join Lee for a pizza party at Galliano Restaurant\, near the University. \nThis location is easily accessible by Bus Routes 31 & 39 (get off at Zinzendorfgasse and walk down) or 39\, 41 & 63 (get off at Attemsgasse and walk along). \nPlease sign up for this Pizza Night – first come\, first served as 20 people is the maximum we are able to book for.
URL:https://www.iwagraz.org/event/pizza-night/
LOCATION:Galliano Restaurant\, Harrachgasse 22\, Graz\, 8010\, Austria
CATEGORIES:Activities
ATTACH;FMTTYPE=image/jpeg:https://www.iwagraz.org/wp-content/uploads/2024/01/IMG_7356_siena.jpg
END:VEVENT
END:VCALENDAR