BEGIN:VCALENDAR
VERSION:2.0
PRODID:-//IWA Graz - ECPv6.15.20//NONSGML v1.0//EN
CALSCALE:GREGORIAN
METHOD:PUBLISH
X-WR-CALNAME:IWA Graz
X-ORIGINAL-URL:https://www.iwagraz.org
X-WR-CALDESC:Events for IWA Graz
REFRESH-INTERVAL;VALUE=DURATION:PT1H
X-Robots-Tag:noindex
X-PUBLISHED-TTL:PT1H
BEGIN:VTIMEZONE
TZID:Europe/Vienna
BEGIN:DAYLIGHT
TZOFFSETFROM:+0100
TZOFFSETTO:+0200
TZNAME:CEST
DTSTART:20230326T010000
END:DAYLIGHT
BEGIN:STANDARD
TZOFFSETFROM:+0200
TZOFFSETTO:+0100
TZNAME:CET
DTSTART:20231029T010000
END:STANDARD
BEGIN:DAYLIGHT
TZOFFSETFROM:+0100
TZOFFSETTO:+0200
TZNAME:CEST
DTSTART:20240331T010000
END:DAYLIGHT
BEGIN:STANDARD
TZOFFSETFROM:+0200
TZOFFSETTO:+0100
TZNAME:CET
DTSTART:20241027T010000
END:STANDARD
BEGIN:DAYLIGHT
TZOFFSETFROM:+0100
TZOFFSETTO:+0200
TZNAME:CEST
DTSTART:20250330T010000
END:DAYLIGHT
BEGIN:STANDARD
TZOFFSETFROM:+0200
TZOFFSETTO:+0100
TZNAME:CET
DTSTART:20251026T010000
END:STANDARD
END:VTIMEZONE
BEGIN:VEVENT
DTSTART;TZID=Europe/Vienna:20240611T100000
DTEND;TZID=Europe/Vienna:20240611T140000
DTSTAMP:20260421T191541
CREATED:20240528T132514Z
LAST-MODIFIED:20240528T132514Z
UID:10000413-1718100000-1718114400@www.iwagraz.org
SUMMARY:Let's go "Walkabout"!
DESCRIPTION:Ready for some walking? Let’s do “The Andritz Circular!” \nWe’ll meet at 10 am at Andritz’ Hauptplatz end of the line for Bims No: 3 & 5 on Tuesday 11th June 2024. \nThis circular walk of approx. 8km in the North of Graz takes us past the Buddhist Stupa to St Ulrichsbrunn Church past the Pfeiferhof School and a couple Gasthouses where we may stop to have a snack & use the facilities. The walk should take us about 2.5hrs. \nFor more information contact Lee N. \nLooking forward to your company and some fun! \nRSVP by 5pm Sunday 9th June via the signup. \nThis walk is suitable for prams & buggies.
URL:https://www.iwagraz.org/event/lets-go-walkabout/
LOCATION:End of Tram no. 3 and 5 (Andritz)\, End stop at Andritz Hauptplatz\, Graz
CATEGORIES:Activities
ATTACH;FMTTYPE=image/jpeg:https://www.iwagraz.org/wp-content/uploads/2023/08/wandern.jpg
END:VEVENT
END:VCALENDAR