BEGIN:VCALENDAR
VERSION:2.0
PRODID:-//IWA Graz - ECPv6.15.20//NONSGML v1.0//EN
CALSCALE:GREGORIAN
METHOD:PUBLISH
X-ORIGINAL-URL:https://www.iwagraz.org
X-WR-CALDESC:Events for IWA Graz
REFRESH-INTERVAL;VALUE=DURATION:PT1H
X-Robots-Tag:noindex
X-PUBLISHED-TTL:PT1H
BEGIN:VTIMEZONE
TZID:Europe/Vienna
BEGIN:DAYLIGHT
TZOFFSETFROM:+0100
TZOFFSETTO:+0200
TZNAME:CEST
DTSTART:20250330T010000
END:DAYLIGHT
BEGIN:STANDARD
TZOFFSETFROM:+0200
TZOFFSETTO:+0100
TZNAME:CET
DTSTART:20251026T010000
END:STANDARD
BEGIN:DAYLIGHT
TZOFFSETFROM:+0100
TZOFFSETTO:+0200
TZNAME:CEST
DTSTART:20260329T010000
END:DAYLIGHT
BEGIN:STANDARD
TZOFFSETFROM:+0200
TZOFFSETTO:+0100
TZNAME:CET
DTSTART:20261025T010000
END:STANDARD
BEGIN:DAYLIGHT
TZOFFSETFROM:+0100
TZOFFSETTO:+0200
TZNAME:CEST
DTSTART:20270328T010000
END:DAYLIGHT
BEGIN:STANDARD
TZOFFSETFROM:+0200
TZOFFSETTO:+0100
TZNAME:CET
DTSTART:20271031T010000
END:STANDARD
END:VTIMEZONE
BEGIN:VEVENT
DTSTART;TZID=Europe/Vienna:20260325T183000
DTEND;TZID=Europe/Vienna:20260325T203000
DTSTAMP:20260421T210411
CREATED:20260309T125056Z
LAST-MODIFIED:20260309T130007Z
UID:10000675-1774463400-1774470600@www.iwagraz.org
SUMMARY:Annual General Meeting
DESCRIPTION:Join us for the 2026 IWA Annual General Meeting.  \nThe IWA Board invites you to enjoy some delicious Greek cuisine as we present our reports on all of the exciting events and developments that took place in 2025 and give an outlook for 2026. \nAs we need to reserve tables and organize Greek snacks for attendees\, please let us know if you will be there. \nSign up link.
URL:https://www.iwagraz.org/event/annual-general-meeting/
LOCATION:Dionysus Greek Restaurant\, Färbergasse 6\, Graz
CATEGORIES:General Meeting
ATTACH;FMTTYPE=image/jpeg:https://www.iwagraz.org/wp-content/uploads/2021/09/iwa_agm.jpg
END:VEVENT
END:VCALENDAR