BEGIN:VCALENDAR
VERSION:2.0
PRODID:-//IWA Graz - ECPv6.15.20//NONSGML v1.0//EN
CALSCALE:GREGORIAN
METHOD:PUBLISH
X-WR-CALNAME:IWA Graz
X-ORIGINAL-URL:https://www.iwagraz.org
X-WR-CALDESC:Events for IWA Graz
REFRESH-INTERVAL;VALUE=DURATION:PT1H
X-Robots-Tag:noindex
X-PUBLISHED-TTL:PT1H
BEGIN:VTIMEZONE
TZID:Europe/Vienna
BEGIN:DAYLIGHT
TZOFFSETFROM:+0100
TZOFFSETTO:+0200
TZNAME:CEST
DTSTART:20240331T010000
END:DAYLIGHT
BEGIN:STANDARD
TZOFFSETFROM:+0200
TZOFFSETTO:+0100
TZNAME:CET
DTSTART:20241027T010000
END:STANDARD
BEGIN:DAYLIGHT
TZOFFSETFROM:+0100
TZOFFSETTO:+0200
TZNAME:CEST
DTSTART:20250330T010000
END:DAYLIGHT
BEGIN:STANDARD
TZOFFSETFROM:+0200
TZOFFSETTO:+0100
TZNAME:CET
DTSTART:20251026T010000
END:STANDARD
BEGIN:DAYLIGHT
TZOFFSETFROM:+0100
TZOFFSETTO:+0200
TZNAME:CEST
DTSTART:20260329T010000
END:DAYLIGHT
BEGIN:STANDARD
TZOFFSETFROM:+0200
TZOFFSETTO:+0100
TZNAME:CET
DTSTART:20261025T010000
END:STANDARD
END:VTIMEZONE
BEGIN:VEVENT
DTSTART;TZID=Europe/Vienna:20250129T120000
DTEND;TZID=Europe/Vienna:20250129T150000
DTSTAMP:20260421T184523
CREATED:20250117T082617Z
LAST-MODIFIED:20250117T082617Z
UID:10000464-1738152000-1738162800@www.iwagraz.org
SUMMARY:Chinese New Year Celebration Lunch
DESCRIPTION:Let’s celebrate the Chinese New Year and bring in The Year of the Snake\, the ruling sign of the zodiac for 2025 which is positioned for prosperity. \nThose born in the year of the snake will be successful in both their personal and professional lives due to their innate charm\, intelligence\, and strategic thinking – wow! \nWe will celebrate with an “all you can eat” Asian buffet which costs 13.90 Euros per person at Dim Sum restaurant on Dietrichsteinplatz. \nPlease bring along a friend and sign up so we can reserve a big enough table. \nFor more information please contact Lee Novak on the usual channels.
URL:https://www.iwagraz.org/event/chinese-new-year-celebration-lunch/
LOCATION:Dim Sum\, Dietrichsteinplatz 2\, Graz\, 8010\, Austria
CATEGORIES:Activities
ATTACH;FMTTYPE=image/jpeg:https://www.iwagraz.org/wp-content/uploads/2025/01/Chinese-new-year-2024.jpg
END:VEVENT
END:VCALENDAR