BEGIN:VCALENDAR
VERSION:2.0
PRODID:-//IWA Graz - ECPv6.15.20//NONSGML v1.0//EN
CALSCALE:GREGORIAN
METHOD:PUBLISH
X-WR-CALNAME:IWA Graz
X-ORIGINAL-URL:https://www.iwagraz.org
X-WR-CALDESC:Events for IWA Graz
REFRESH-INTERVAL;VALUE=DURATION:PT1H
X-Robots-Tag:noindex
X-PUBLISHED-TTL:PT1H
BEGIN:VTIMEZONE
TZID:Europe/Vienna
BEGIN:DAYLIGHT
TZOFFSETFROM:+0100
TZOFFSETTO:+0200
TZNAME:CEST
DTSTART:20230326T010000
END:DAYLIGHT
BEGIN:STANDARD
TZOFFSETFROM:+0200
TZOFFSETTO:+0100
TZNAME:CET
DTSTART:20231029T010000
END:STANDARD
BEGIN:DAYLIGHT
TZOFFSETFROM:+0100
TZOFFSETTO:+0200
TZNAME:CEST
DTSTART:20240331T010000
END:DAYLIGHT
BEGIN:STANDARD
TZOFFSETFROM:+0200
TZOFFSETTO:+0100
TZNAME:CET
DTSTART:20241027T010000
END:STANDARD
BEGIN:DAYLIGHT
TZOFFSETFROM:+0100
TZOFFSETTO:+0200
TZNAME:CEST
DTSTART:20250330T010000
END:DAYLIGHT
BEGIN:STANDARD
TZOFFSETFROM:+0200
TZOFFSETTO:+0100
TZNAME:CET
DTSTART:20251026T010000
END:STANDARD
END:VTIMEZONE
BEGIN:VEVENT
DTSTART;TZID=Europe/Vienna:20240705T173000
DTEND;TZID=Europe/Vienna:20240705T203000
DTSTAMP:20260421T202533
CREATED:20240616T092300Z
LAST-MODIFIED:20240618T065302Z
UID:10000416-1720200600-1720211400@www.iwagraz.org
SUMMARY:4th of July Celebrations at Clocktower Restaurant
DESCRIPTION:Let’s celebrate the 4th of July together with members of the Austro-American Society of Styria! Join us at the:\n\nClocktower Restaurant (Harley Davidson Graz\, Kärntnerstraße 173)\nFriday 5th July 5.30pm to 8.30pm\n\nThe Clocktower Restaurant is part of the Harley Davidson dearlership in Graz. The 32 bus stops very near (get off at “Kapellenwirt”) and there is a car park at the back.\n\nHow about wearing something red\, white and blue to get into the spirit?\n\n*The Austro-American Society of Styria has generously agreed to cover the costs of the first drink and starters for our group.*\n\nSpace is limited\, so please RSVP and sign up by no later than Friday 28th June!\n\nLink to restaurant website: Restaurant Clocktower Graz – American Bar & Grill\nand menu: Clocktower Menu\nSpouses\, children and friends are all welcome! \nLooking forward to seeing you!
URL:https://www.iwagraz.org/event/4th-of-july-celebrations-at-clocktower-restaurant/
LOCATION:Clocktower\, Kärntnerstr. 173\, Graz\, 8053\, Austria
CATEGORIES:Activities
ATTACH;FMTTYPE=image/jpeg:https://www.iwagraz.org/wp-content/uploads/2024/06/Steak-for-IWA.jpg
END:VEVENT
END:VCALENDAR