BEGIN:VCALENDAR
VERSION:2.0
PRODID:-//IWA Graz - ECPv6.15.20//NONSGML v1.0//EN
CALSCALE:GREGORIAN
METHOD:PUBLISH
X-ORIGINAL-URL:https://www.iwagraz.org
X-WR-CALDESC:Events for IWA Graz
REFRESH-INTERVAL;VALUE=DURATION:PT1H
X-Robots-Tag:noindex
X-PUBLISHED-TTL:PT1H
BEGIN:VTIMEZONE
TZID:Europe/Vienna
BEGIN:DAYLIGHT
TZOFFSETFROM:+0100
TZOFFSETTO:+0200
TZNAME:CEST
DTSTART:20240331T010000
END:DAYLIGHT
BEGIN:STANDARD
TZOFFSETFROM:+0200
TZOFFSETTO:+0100
TZNAME:CET
DTSTART:20241027T010000
END:STANDARD
BEGIN:DAYLIGHT
TZOFFSETFROM:+0100
TZOFFSETTO:+0200
TZNAME:CEST
DTSTART:20250330T010000
END:DAYLIGHT
BEGIN:STANDARD
TZOFFSETFROM:+0200
TZOFFSETTO:+0100
TZNAME:CET
DTSTART:20251026T010000
END:STANDARD
BEGIN:DAYLIGHT
TZOFFSETFROM:+0100
TZOFFSETTO:+0200
TZNAME:CEST
DTSTART:20260329T010000
END:DAYLIGHT
BEGIN:STANDARD
TZOFFSETFROM:+0200
TZOFFSETTO:+0100
TZNAME:CET
DTSTART:20261025T010000
END:STANDARD
END:VTIMEZONE
BEGIN:VEVENT
DTSTART;TZID=Europe/Vienna:20250130T100000
DTEND;TZID=Europe/Vienna:20250130T120000
DTSTAMP:20260421T204905
CREATED:20250103T111407Z
LAST-MODIFIED:20250103T111407Z
UID:10000462-1738231200-1738238400@www.iwagraz.org
SUMMARY:January Coffee Morning
DESCRIPTION:The first coffee morning of the year will be at Café Turners on Karmeliterplatz. \nThis café is very kid-friendly (with a changing table\, play area\, lots of toys and baby chairs). It also has a great menu full of breakfast and brunch options! \nsee you there!
URL:https://www.iwagraz.org/event/january-coffee-morning-2/
LOCATION:Café Turners\, Karmeliterplatz 8\, Graz\, Austria
CATEGORIES:Coffee Morning
ATTACH;FMTTYPE=image/jpeg:https://www.iwagraz.org/wp-content/uploads/2024/10/coffee-842020_1280.jpg
END:VEVENT
END:VCALENDAR