BEGIN:VCALENDAR
VERSION:2.0
PRODID:-//IWA Graz - ECPv6.15.20//NONSGML v1.0//EN
CALSCALE:GREGORIAN
METHOD:PUBLISH
X-ORIGINAL-URL:https://www.iwagraz.org
X-WR-CALDESC:Events for IWA Graz
REFRESH-INTERVAL;VALUE=DURATION:PT1H
X-Robots-Tag:noindex
X-PUBLISHED-TTL:PT1H
BEGIN:VTIMEZONE
TZID:Europe/Vienna
BEGIN:DAYLIGHT
TZOFFSETFROM:+0100
TZOFFSETTO:+0200
TZNAME:CEST
DTSTART:20250330T010000
END:DAYLIGHT
BEGIN:STANDARD
TZOFFSETFROM:+0200
TZOFFSETTO:+0100
TZNAME:CET
DTSTART:20251026T010000
END:STANDARD
BEGIN:DAYLIGHT
TZOFFSETFROM:+0100
TZOFFSETTO:+0200
TZNAME:CEST
DTSTART:20260329T010000
END:DAYLIGHT
BEGIN:STANDARD
TZOFFSETFROM:+0200
TZOFFSETTO:+0100
TZNAME:CET
DTSTART:20261025T010000
END:STANDARD
BEGIN:DAYLIGHT
TZOFFSETFROM:+0100
TZOFFSETTO:+0200
TZNAME:CEST
DTSTART:20270328T010000
END:DAYLIGHT
BEGIN:STANDARD
TZOFFSETFROM:+0200
TZOFFSETTO:+0100
TZNAME:CET
DTSTART:20271031T010000
END:STANDARD
END:VTIMEZONE
BEGIN:VEVENT
DTSTART;TZID=Europe/Vienna:20260115T173000
DTEND;TZID=Europe/Vienna:20260115T200000
DTSTAMP:20260421T190453
CREATED:20260104T094434Z
LAST-MODIFIED:20260110T112202Z
UID:10000645-1768498200-1768507200@www.iwagraz.org
SUMMARY:Happy Hour in January
DESCRIPTION:Join us for the first Happy Hour of the year at Café Stockwerk\, which is super-central\, right on Jakominiplatz (the entrance is quite close to McDonald’s). \nThis is a hidden gem of a place\, which often has small gigs and theater productions on in the back room! \nWe look forward to seeing you there!
URL:https://www.iwagraz.org/event/happy-hour-in-january/
LOCATION:Café Stockwerk\, Jakominiplatz 18\, Graz\, 8010\, Austria
CATEGORIES:Activities,Happy Hour
ATTACH;FMTTYPE=image/jpeg:https://www.iwagraz.org/wp-content/uploads/2021/09/happyhour.jpeg
END:VEVENT
END:VCALENDAR