BEGIN:VCALENDAR
VERSION:2.0
PRODID:-//IWA Graz - ECPv6.15.20//NONSGML v1.0//EN
CALSCALE:GREGORIAN
METHOD:PUBLISH
X-WR-CALNAME:IWA Graz
X-ORIGINAL-URL:https://www.iwagraz.org
X-WR-CALDESC:Events for IWA Graz
REFRESH-INTERVAL;VALUE=DURATION:PT1H
X-Robots-Tag:noindex
X-PUBLISHED-TTL:PT1H
BEGIN:VTIMEZONE
TZID:Europe/Vienna
BEGIN:DAYLIGHT
TZOFFSETFROM:+0100
TZOFFSETTO:+0200
TZNAME:CEST
DTSTART:20250330T010000
END:DAYLIGHT
BEGIN:STANDARD
TZOFFSETFROM:+0200
TZOFFSETTO:+0100
TZNAME:CET
DTSTART:20251026T010000
END:STANDARD
BEGIN:DAYLIGHT
TZOFFSETFROM:+0100
TZOFFSETTO:+0200
TZNAME:CEST
DTSTART:20260329T010000
END:DAYLIGHT
BEGIN:STANDARD
TZOFFSETFROM:+0200
TZOFFSETTO:+0100
TZNAME:CET
DTSTART:20261025T010000
END:STANDARD
BEGIN:DAYLIGHT
TZOFFSETFROM:+0100
TZOFFSETTO:+0200
TZNAME:CEST
DTSTART:20270328T010000
END:DAYLIGHT
BEGIN:STANDARD
TZOFFSETFROM:+0200
TZOFFSETTO:+0100
TZNAME:CET
DTSTART:20271031T010000
END:STANDARD
END:VTIMEZONE
BEGIN:VEVENT
DTSTART;TZID=Europe/Vienna:20260227T100000
DTEND;TZID=Europe/Vienna:20260227T120000
DTSTAMP:20260421T204327
CREATED:20260131T150742Z
LAST-MODIFIED:20260210T201940Z
UID:10000666-1772186400-1772193600@www.iwagraz.org
SUMMARY:Coffee Morning February
DESCRIPTION:Join IWA Hospitality Officer Bettina D. in checking out the beautiful and glamourous Café Herzog and enjoy a hot drink\, tasty snack\, conversation\, and the support of friends. \n  \n  \n  \n 
URL:https://www.iwagraz.org/event/coffee-morning-feb-2026/
LOCATION:Café Herzog\, Herrengasse 6\, Graz\, 8010\, Austria
CATEGORIES:Coffee Morning
ATTACH;FMTTYPE=image/jpeg:https://www.iwagraz.org/wp-content/uploads/2026/01/coffee-valentines.jpg
END:VEVENT
END:VCALENDAR