BEGIN:VCALENDAR
VERSION:2.0
PRODID:-//IWA Graz - ECPv6.15.20//NONSGML v1.0//EN
CALSCALE:GREGORIAN
METHOD:PUBLISH
X-WR-CALNAME:IWA Graz
X-ORIGINAL-URL:https://www.iwagraz.org
X-WR-CALDESC:Events for IWA Graz
REFRESH-INTERVAL;VALUE=DURATION:PT1H
X-Robots-Tag:noindex
X-PUBLISHED-TTL:PT1H
BEGIN:VTIMEZONE
TZID:Europe/Vienna
BEGIN:DAYLIGHT
TZOFFSETFROM:+0100
TZOFFSETTO:+0200
TZNAME:CEST
DTSTART:20230326T010000
END:DAYLIGHT
BEGIN:STANDARD
TZOFFSETFROM:+0200
TZOFFSETTO:+0100
TZNAME:CET
DTSTART:20231029T010000
END:STANDARD
BEGIN:DAYLIGHT
TZOFFSETFROM:+0100
TZOFFSETTO:+0200
TZNAME:CEST
DTSTART:20240331T010000
END:DAYLIGHT
BEGIN:STANDARD
TZOFFSETFROM:+0200
TZOFFSETTO:+0100
TZNAME:CET
DTSTART:20241027T010000
END:STANDARD
BEGIN:DAYLIGHT
TZOFFSETFROM:+0100
TZOFFSETTO:+0200
TZNAME:CEST
DTSTART:20250330T010000
END:DAYLIGHT
BEGIN:STANDARD
TZOFFSETFROM:+0200
TZOFFSETTO:+0100
TZNAME:CET
DTSTART:20251026T010000
END:STANDARD
BEGIN:DAYLIGHT
TZOFFSETFROM:+0100
TZOFFSETTO:+0200
TZNAME:CEST
DTSTART:20260329T010000
END:DAYLIGHT
BEGIN:STANDARD
TZOFFSETFROM:+0200
TZOFFSETTO:+0100
TZNAME:CET
DTSTART:20261025T010000
END:STANDARD
END:VTIMEZONE
BEGIN:VEVENT
DTSTART;TZID=Europe/Vienna:20250311T100000
DTEND;TZID=Europe/Vienna:20250311T120000
DTSTAMP:20260421T191515
CREATED:20250305T194819Z
LAST-MODIFIED:20250305T194819Z
UID:10000544-1741687200-1741694400@www.iwagraz.org
SUMMARY:March Coffee Morning
DESCRIPTION:This month we are meeting at a café in Geidorf. Café Frohsinn offers fresh cakes out of their bakery. They also offer breakfast and good coffee.\nCome and join us at Café Frohsinn. \nHow to get there? \nBy public transportation: from the HAUPTPLATZ take tram 3 or 5 toward Andritz. Get out at\nSENIORENZENTRUM. You are in front of the Café Frohsinn \nBy bike: from the center of town\, ride north along the Mur (up the Mur). After the Keplerbrücke take a side\nstreet to the right to get onto the bike path in the Körösistraße. After the bike path crosses the Körösistraße\ncontinue north on the Körösistraße. Take a right after the Billa (through the parking lot) or at\nScheidtenbergergasse. Take a left onto Theodor-Körner-Straße and follow the road until you get to the café on\nthe right. \nBy car: park in the blue or green zone in Theodor-Körner-Straße or Heinrich-Casper-Gasse or the side streets. \nYour host will be Bettina
URL:https://www.iwagraz.org/event/march-coffee-morning-3/
LOCATION:Cafe Frohsinn\, Theodor-Körner-Strasse 60\, Graz\, 8010\, Austria
CATEGORIES:Coffee Morning
ATTACH;FMTTYPE=image/jpeg:https://www.iwagraz.org/wp-content/uploads/2024/10/coffee-842020_1280.jpg
END:VEVENT
BEGIN:VEVENT
DTSTART;TZID=Europe/Vienna:20240522T100000
DTEND;TZID=Europe/Vienna:20240522T120000
DTSTAMP:20260421T191515
CREATED:20240426T190412Z
LAST-MODIFIED:20240426T190555Z
UID:10000396-1716372000-1716379200@www.iwagraz.org
SUMMARY:Coffee Morning May
DESCRIPTION:This month we are meeting at a café in Geidorf. Café Frohsinn offers fresh cakes out of their bakery. They also offer breakfast and good coffee.\nCome and join us at Café Frohsinn. \nBy public transportation: from the HAUPTPLATZ take tram 3 or 5 toward Andritz. Get out at SENIORENZENTRUM. Cross the street at the stoplight and you walk right into the Café Frohsinn \nBy bike: from the center of town\, ride north along the Mur (up the Mur). After the Keplerbrücke take a side street to the right to get onto the bike path in the Körösistraße. After the bike path crosses the Körösistraße continue north on the Körösistraße. Take a right after the Billa (through the parking lot) or at Scheidtenbergergasse. Take a left onto Theodor-Körner-Straße and follow the road until you get to the café on the right. \nBy car: park in the blue or green zone in Theodor-Körner-Straße or Heinrich-Casper-Gasse or the side streets.\nYour host\,\nBettina
URL:https://www.iwagraz.org/event/coffee-morning-may-2/
LOCATION:Cafe Frohsinn\, Theodor-Körner-Strasse 60\, Graz\, 8010\, Austria
CATEGORIES:Coffee Morning
ATTACH;FMTTYPE=image/jpeg:https://www.iwagraz.org/wp-content/uploads/2023/02/black-coffee-1867753_1280.jpg
END:VEVENT
END:VCALENDAR