BEGIN:VCALENDAR
VERSION:2.0
PRODID:-//IWA Graz - ECPv6.15.20//NONSGML v1.0//EN
CALSCALE:GREGORIAN
METHOD:PUBLISH
X-WR-CALNAME:IWA Graz
X-ORIGINAL-URL:https://www.iwagraz.org
X-WR-CALDESC:Events for IWA Graz
REFRESH-INTERVAL;VALUE=DURATION:PT1H
X-Robots-Tag:noindex
X-PUBLISHED-TTL:PT1H
BEGIN:VTIMEZONE
TZID:Europe/Vienna
BEGIN:DAYLIGHT
TZOFFSETFROM:+0100
TZOFFSETTO:+0200
TZNAME:CEST
DTSTART:20240331T010000
END:DAYLIGHT
BEGIN:STANDARD
TZOFFSETFROM:+0200
TZOFFSETTO:+0100
TZNAME:CET
DTSTART:20241027T010000
END:STANDARD
BEGIN:DAYLIGHT
TZOFFSETFROM:+0100
TZOFFSETTO:+0200
TZNAME:CEST
DTSTART:20250330T010000
END:DAYLIGHT
BEGIN:STANDARD
TZOFFSETFROM:+0200
TZOFFSETTO:+0100
TZNAME:CET
DTSTART:20251026T010000
END:STANDARD
BEGIN:DAYLIGHT
TZOFFSETFROM:+0100
TZOFFSETTO:+0200
TZNAME:CEST
DTSTART:20260329T010000
END:DAYLIGHT
BEGIN:STANDARD
TZOFFSETFROM:+0200
TZOFFSETTO:+0100
TZNAME:CET
DTSTART:20261025T010000
END:STANDARD
END:VTIMEZONE
BEGIN:VEVENT
DTSTART;TZID=Europe/Vienna:20250612T173000
DTEND;TZID=Europe/Vienna:20250612T193000
DTSTAMP:20260421T190606
CREATED:20250522T113144Z
LAST-MODIFIED:20250522T113144Z
UID:10000572-1749749400-1749756600@www.iwagraz.org
SUMMARY:June Happy Hour
DESCRIPTION:Join our IWA Happy Hour Coordinators Corinna R. and Bettina D. at Café-Bar Reinerhof to try out one of their many local wines or classic cocktails. The café-bar\, which is popular with both Graz residents and visitors\, is housed in the Reinerhof\, the oldest documented house in Graz and one of the city’s most important cultural assets\, on the Schloßbergplatz. \nTo help Corinna reserve enough spaces\, please sign up by June 5. \nA fun fact for our history buffs: As you enter the bar\, don’t miss the medieval fountain found during renovation work and integrated into the bar area. You can also view a reproduction of a “deed of donation” (Schenkungsurkunde) from 1164 in the bar. At the time\, there was a close relationship between the Margrave Ottokar III of Styria and the Stift Rein monastery. The Margrave made several gifts of land to Stift Rein\, including three farmsteads located at the time below the castle on the Schloßberg in 1164. This later became the present-day Reinerhof in Sackstraße! \nInfo source \n 
URL:https://www.iwagraz.org/event/june-2025-happy-hour/
LOCATION:Cafe-Bar Reinerhof\, Sackstraße 20\, Graz\, 8010\, Austria
CATEGORIES:Activities,Happy Hour
ATTACH;FMTTYPE=image/jpeg:https://www.iwagraz.org/wp-content/uploads/2025/05/HH_June2025.jpg
END:VEVENT
END:VCALENDAR