BEGIN:VCALENDAR
VERSION:2.0
PRODID:-//IWA Graz - ECPv6.15.20//NONSGML v1.0//EN
CALSCALE:GREGORIAN
METHOD:PUBLISH
X-ORIGINAL-URL:https://www.iwagraz.org
X-WR-CALDESC:Events for IWA Graz
REFRESH-INTERVAL;VALUE=DURATION:PT1H
X-Robots-Tag:noindex
X-PUBLISHED-TTL:PT1H
BEGIN:VTIMEZONE
TZID:Europe/Vienna
BEGIN:DAYLIGHT
TZOFFSETFROM:+0100
TZOFFSETTO:+0200
TZNAME:CEST
DTSTART:20240331T010000
END:DAYLIGHT
BEGIN:STANDARD
TZOFFSETFROM:+0200
TZOFFSETTO:+0100
TZNAME:CET
DTSTART:20241027T010000
END:STANDARD
BEGIN:DAYLIGHT
TZOFFSETFROM:+0100
TZOFFSETTO:+0200
TZNAME:CEST
DTSTART:20250330T010000
END:DAYLIGHT
BEGIN:STANDARD
TZOFFSETFROM:+0200
TZOFFSETTO:+0100
TZNAME:CET
DTSTART:20251026T010000
END:STANDARD
BEGIN:DAYLIGHT
TZOFFSETFROM:+0100
TZOFFSETTO:+0200
TZNAME:CEST
DTSTART:20260329T010000
END:DAYLIGHT
BEGIN:STANDARD
TZOFFSETFROM:+0200
TZOFFSETTO:+0100
TZNAME:CET
DTSTART:20261025T010000
END:STANDARD
END:VTIMEZONE
BEGIN:VEVENT
DTSTART;TZID=Europe/Vienna:20251219T153000
DTEND;TZID=Europe/Vienna:20251219T180000
DTSTAMP:20260421T185511
CREATED:20251207T194153Z
LAST-MODIFIED:20251207T194153Z
UID:10000638-1766158200-1766167200@www.iwagraz.org
SUMMARY:Moms & Explorers: Bouldering trip
DESCRIPTION:Join Anna M. and Monika N. with your kids for a trip to a climbing center for some bouldering. \nYou should wear comfortable clothing! \nIf you get there at 3.30 you get the early bird price\, which is €7.90 (for adults it’s €18) and then shoe hire is €3.90. Details on prices. \n  \n  \n 
URL:https://www.iwagraz.org/event/moms-explorers-bouldering-trip/
LOCATION:Boulderhalle\, Triesterstr. 391\, Graz\, 8055\, Austria
CATEGORIES:Activities
ATTACH;FMTTYPE=image/jpeg:https://www.iwagraz.org/wp-content/uploads/2025/12/Boulder-trip.jpg
END:VEVENT
END:VCALENDAR