BEGIN:VCALENDAR
VERSION:2.0
PRODID:-//IWA Graz - ECPv6.15.20//NONSGML v1.0//EN
CALSCALE:GREGORIAN
METHOD:PUBLISH
X-ORIGINAL-URL:https://www.iwagraz.org
X-WR-CALDESC:Events for IWA Graz
REFRESH-INTERVAL;VALUE=DURATION:PT1H
X-Robots-Tag:noindex
X-PUBLISHED-TTL:PT1H
BEGIN:VTIMEZONE
TZID:Europe/Vienna
BEGIN:DAYLIGHT
TZOFFSETFROM:+0100
TZOFFSETTO:+0200
TZNAME:CEST
DTSTART:20230326T010000
END:DAYLIGHT
BEGIN:STANDARD
TZOFFSETFROM:+0200
TZOFFSETTO:+0100
TZNAME:CET
DTSTART:20231029T010000
END:STANDARD
BEGIN:DAYLIGHT
TZOFFSETFROM:+0100
TZOFFSETTO:+0200
TZNAME:CEST
DTSTART:20240331T010000
END:DAYLIGHT
BEGIN:STANDARD
TZOFFSETFROM:+0200
TZOFFSETTO:+0100
TZNAME:CET
DTSTART:20241027T010000
END:STANDARD
BEGIN:DAYLIGHT
TZOFFSETFROM:+0100
TZOFFSETTO:+0200
TZNAME:CEST
DTSTART:20250330T010000
END:DAYLIGHT
BEGIN:STANDARD
TZOFFSETFROM:+0200
TZOFFSETTO:+0100
TZNAME:CET
DTSTART:20251026T010000
END:STANDARD
END:VTIMEZONE
BEGIN:VEVENT
DTSTART;TZID=Europe/Vienna:20240422T100000
DTEND;TZID=Europe/Vienna:20240422T110000
DTSTAMP:20260421T184514
CREATED:20240401T191003Z
LAST-MODIFIED:20240404T053920Z
UID:10000389-1713780000-1713783600@www.iwagraz.org
SUMMARY:Books4Life Read and Chat
DESCRIPTION:Come and get to know IWA’s books for sale at Books4Life in the university area! \n(We have our own shelf there) \nRumour has it that there are some awesome mystery and thrillers on offer! \nAfterwards we will go for a coffee at Café Global. \nPlease sign up so we know how many are coming! \nRead about Books4Life!
URL:https://www.iwagraz.org/event/books4life-read-and-chat/
LOCATION:Books4Life\, Leechgasse 4\, Graz\, 8010
CATEGORIES:Activities
ATTACH;FMTTYPE=image/jpeg:https://www.iwagraz.org/wp-content/uploads/2022/09/Book-sale.jpg
END:VEVENT
END:VCALENDAR