BEGIN:VCALENDAR
VERSION:2.0
PRODID:-//IWA Graz - ECPv6.15.20//NONSGML v1.0//EN
CALSCALE:GREGORIAN
METHOD:PUBLISH
X-WR-CALNAME:IWA Graz
X-ORIGINAL-URL:https://www.iwagraz.org
X-WR-CALDESC:Events for IWA Graz
REFRESH-INTERVAL;VALUE=DURATION:PT1H
X-Robots-Tag:noindex
X-PUBLISHED-TTL:PT1H
BEGIN:VTIMEZONE
TZID:Europe/Vienna
BEGIN:DAYLIGHT
TZOFFSETFROM:+0100
TZOFFSETTO:+0200
TZNAME:CEST
DTSTART:20250330T010000
END:DAYLIGHT
BEGIN:STANDARD
TZOFFSETFROM:+0200
TZOFFSETTO:+0100
TZNAME:CET
DTSTART:20251026T010000
END:STANDARD
BEGIN:DAYLIGHT
TZOFFSETFROM:+0100
TZOFFSETTO:+0200
TZNAME:CEST
DTSTART:20260329T010000
END:DAYLIGHT
BEGIN:STANDARD
TZOFFSETFROM:+0200
TZOFFSETTO:+0100
TZNAME:CET
DTSTART:20261025T010000
END:STANDARD
BEGIN:DAYLIGHT
TZOFFSETFROM:+0100
TZOFFSETTO:+0200
TZNAME:CEST
DTSTART:20270328T010000
END:DAYLIGHT
BEGIN:STANDARD
TZOFFSETFROM:+0200
TZOFFSETTO:+0100
TZNAME:CET
DTSTART:20271031T010000
END:STANDARD
END:VTIMEZONE
BEGIN:VEVENT
DTSTART;TZID=Europe/Vienna:20260318T100000
DTEND;TZID=Europe/Vienna:20260318T120000
DTSTAMP:20260421T190549
CREATED:20260227T081317Z
LAST-MODIFIED:20260227T081317Z
UID:10000670-1773828000-1773835200@www.iwagraz.org
SUMMARY:Coffee Morning March
DESCRIPTION:Join IWA Hospitality Officer Bettina D. at Bäckerei Kern in the Mariatrosterstrasse! \nThis bakery is on the Tram line number 1 but due to renovations of the tram line\, you will have to change from the Tram 1 to the replacement bus E1 at Hilmteich. Get off at stop “Kroisbach” – the bakery is 2 minutes walk from there. \n  \n  \n  \n  \n  \n 
URL:https://www.iwagraz.org/event/coffee-morning-march/
LOCATION:Bäckerei Kern\, Mariatroster Straße 93\, Graz\, 8043\, Austria
CATEGORIES:Coffee Morning
ATTACH;FMTTYPE=image/jpeg:https://www.iwagraz.org/wp-content/uploads/2026/01/coffee-valentines.jpg
END:VEVENT
END:VCALENDAR