BEGIN:VCALENDAR
VERSION:2.0
PRODID:-//IWA Graz - ECPv6.15.20//NONSGML v1.0//EN
CALSCALE:GREGORIAN
METHOD:PUBLISH
X-WR-CALNAME:IWA Graz
X-ORIGINAL-URL:https://www.iwagraz.org
X-WR-CALDESC:Events for IWA Graz
REFRESH-INTERVAL;VALUE=DURATION:PT1H
X-Robots-Tag:noindex
X-PUBLISHED-TTL:PT1H
BEGIN:VTIMEZONE
TZID:Europe/Vienna
BEGIN:DAYLIGHT
TZOFFSETFROM:+0100
TZOFFSETTO:+0200
TZNAME:CEST
DTSTART:20230326T010000
END:DAYLIGHT
BEGIN:STANDARD
TZOFFSETFROM:+0200
TZOFFSETTO:+0100
TZNAME:CET
DTSTART:20231029T010000
END:STANDARD
BEGIN:DAYLIGHT
TZOFFSETFROM:+0100
TZOFFSETTO:+0200
TZNAME:CEST
DTSTART:20240331T010000
END:DAYLIGHT
BEGIN:STANDARD
TZOFFSETFROM:+0200
TZOFFSETTO:+0100
TZNAME:CET
DTSTART:20241027T010000
END:STANDARD
BEGIN:DAYLIGHT
TZOFFSETFROM:+0100
TZOFFSETTO:+0200
TZNAME:CEST
DTSTART:20250330T010000
END:DAYLIGHT
BEGIN:STANDARD
TZOFFSETFROM:+0200
TZOFFSETTO:+0100
TZNAME:CET
DTSTART:20251026T010000
END:STANDARD
END:VTIMEZONE
BEGIN:VEVENT
DTSTART;TZID=Europe/Vienna:20240920T120000
DTEND;TZID=Europe/Vienna:20240920T140000
DTSTAMP:20260421T192258
CREATED:20240830T153658Z
LAST-MODIFIED:20240830T153822Z
UID:10000429-1726833600-1726840800@www.iwagraz.org
SUMMARY:Persian Lunch & Munch
DESCRIPTION:This month\, travel with us to Persia! \nPersian Cuisine features some of the world’s finest dishes\, which are as varied as the history and diversity of climates in the region. Join us at this Lunch & Munch to savor the rich textures and tastes of this food\, blending and balancing the finest and freshest spices. \nPlease RSVP using this link by Wednesday\, Sept. 18. For more information\, contact Lee or write in the Connect in Graz WhatsApp/Signal group.
URL:https://www.iwagraz.org/event/persian-lunch-munch/
LOCATION:Aria Grillmaster Persisches Restaurant\, Schönaugasse 3\, Graz\, 8010\, Austria
CATEGORIES:Activities
ATTACH;FMTTYPE=image/jpeg:https://www.iwagraz.org/wp-content/uploads/2024/08/LaM_Sept2024.jpg
END:VEVENT
END:VCALENDAR