BEGIN:VCALENDAR
VERSION:2.0
PRODID:-//IWA Graz - ECPv6.15.20//NONSGML v1.0//EN
CALSCALE:GREGORIAN
METHOD:PUBLISH
X-ORIGINAL-URL:https://www.iwagraz.org
X-WR-CALDESC:Events for IWA Graz
REFRESH-INTERVAL;VALUE=DURATION:PT1H
X-Robots-Tag:noindex
X-PUBLISHED-TTL:PT1H
BEGIN:VTIMEZONE
TZID:Europe/Vienna
BEGIN:DAYLIGHT
TZOFFSETFROM:+0100
TZOFFSETTO:+0200
TZNAME:CEST
DTSTART:20230326T010000
END:DAYLIGHT
BEGIN:STANDARD
TZOFFSETFROM:+0200
TZOFFSETTO:+0100
TZNAME:CET
DTSTART:20231029T010000
END:STANDARD
BEGIN:DAYLIGHT
TZOFFSETFROM:+0100
TZOFFSETTO:+0200
TZNAME:CEST
DTSTART:20240331T010000
END:DAYLIGHT
BEGIN:STANDARD
TZOFFSETFROM:+0200
TZOFFSETTO:+0100
TZNAME:CET
DTSTART:20241027T010000
END:STANDARD
BEGIN:DAYLIGHT
TZOFFSETFROM:+0100
TZOFFSETTO:+0200
TZNAME:CEST
DTSTART:20250330T010000
END:DAYLIGHT
BEGIN:STANDARD
TZOFFSETFROM:+0200
TZOFFSETTO:+0100
TZNAME:CET
DTSTART:20251026T010000
END:STANDARD
BEGIN:DAYLIGHT
TZOFFSETFROM:+0100
TZOFFSETTO:+0200
TZNAME:CEST
DTSTART:20260329T010000
END:DAYLIGHT
BEGIN:STANDARD
TZOFFSETFROM:+0200
TZOFFSETTO:+0100
TZNAME:CET
DTSTART:20261025T010000
END:STANDARD
END:VTIMEZONE
BEGIN:VEVENT
DTSTART;TZID=Europe/Vienna:20250208T084500
DTEND;TZID=Europe/Vienna:20250208T100000
DTSTAMP:20260421T204603
CREATED:20250204T115853Z
LAST-MODIFIED:20250204T120038Z
UID:10000474-1739004300-1739008800@www.iwagraz.org
SUMMARY:Get moving in Stadtpark
DESCRIPTION:As part of a “get fit in 2025” initiative the IWA is cordially invited to take part in this “parkrun” taking place in Stadtpark. \n\nSarah K. will be there and you will probably see a few familiar IWA faces.\nBring your husbands\, partners\, kids and dogs to walk\, jog or run a 5 km stretch around Stadtpark. If you are unsure about your ability you can just do one or two rounds (i.e. 1\,5 or 3 km) and then chat with the organizational team as the others finish. This is not a race – or a particularly sporty group.\n\nparkrun is free\, and just know that you will never be last – we have a dedicated person bringing up the rear!\n\n\nparkrun always starts at 9.00 sharp (every Saturday)\, briefing and welcome is at about 8:45.\n\n\nAfterwards we go for coffee at Café Turners on Karmeliterplatz.\n\n\n\nMeeting place is the former “traffic garden” next to the children’s play area. For more information\, get in touch via the Facebook comments or the Connect in Graz whatsapp / Signal group.
URL:https://www.iwagraz.org/event/get-moving-in-stadtpark/
LOCATION:Stadtpark\, Next to children's playground\, Graz\, 8010\, Austria
CATEGORIES:Activities
ATTACH;FMTTYPE=image/jpeg:https://www.iwagraz.org/wp-content/uploads/2025/02/June-Peter-Christa.jpg
END:VEVENT
BEGIN:VEVENT
DTSTART;TZID=Europe/Vienna:20240628T140000
DTEND;TZID=Europe/Vienna:20240628T160000
DTSTAMP:20260421T204603
CREATED:20240603T174739Z
LAST-MODIFIED:20240603T174739Z
UID:10000414-1719583200-1719590400@www.iwagraz.org
SUMMARY:Knitting and Chatting Club
DESCRIPTION:One last chance to be part of the Knitting (and Chatting) Club before IWA summer break. Bring your knitting\, crochet\, patchwork or embroidery or just bring yourself. Before or after there is time to have a browse of the lovely shop\, Bohemian Soul Beehive\, next door.
URL:https://www.iwagraz.org/event/knitting-and-chatting-club/
LOCATION:Seddwell Community Center\, Dreihackengasse 32\, Graz\, 8020\, Austria
CATEGORIES:Activities
ATTACH;FMTTYPE=image/jpeg:https://www.iwagraz.org/wp-content/uploads/2022/03/Knitting-club.jpg
END:VEVENT
BEGIN:VEVENT
DTSTART;TZID=Europe/Vienna:20240426T140000
DTEND;TZID=Europe/Vienna:20240426T160000
DTSTAMP:20260421T204603
CREATED:20240401T193358Z
LAST-MODIFIED:20240401T193358Z
UID:10000393-1714140000-1714147200@www.iwagraz.org
SUMMARY:Needlecraft Club
DESCRIPTION:Join us for a chat and a cup of tea while we do a little crochet\, knitting or needlework! \nThere will be a flea market on at Seddwell on this date\, so worth combining the two…
URL:https://www.iwagraz.org/event/needlecraft-club-8/
LOCATION:Seddwell Community Center\, Dreihackengasse 32\, Graz\, 8020\, Austria
CATEGORIES:Activities
ATTACH;FMTTYPE=image/jpeg:https://www.iwagraz.org/wp-content/uploads/2023/05/knitting-gf2a219c36_1280.jpg
END:VEVENT
END:VCALENDAR