BEGIN:VCALENDAR
VERSION:2.0
PRODID:-//IWA Graz - ECPv6.15.20//NONSGML v1.0//EN
CALSCALE:GREGORIAN
METHOD:PUBLISH
X-ORIGINAL-URL:https://www.iwagraz.org
X-WR-CALDESC:Events for IWA Graz
REFRESH-INTERVAL;VALUE=DURATION:PT1H
X-Robots-Tag:noindex
X-PUBLISHED-TTL:PT1H
BEGIN:VTIMEZONE
TZID:Europe/Vienna
BEGIN:DAYLIGHT
TZOFFSETFROM:+0100
TZOFFSETTO:+0200
TZNAME:CEST
DTSTART:20240331T010000
END:DAYLIGHT
BEGIN:STANDARD
TZOFFSETFROM:+0200
TZOFFSETTO:+0100
TZNAME:CET
DTSTART:20241027T010000
END:STANDARD
BEGIN:DAYLIGHT
TZOFFSETFROM:+0100
TZOFFSETTO:+0200
TZNAME:CEST
DTSTART:20250330T010000
END:DAYLIGHT
BEGIN:STANDARD
TZOFFSETFROM:+0200
TZOFFSETTO:+0100
TZNAME:CET
DTSTART:20251026T010000
END:STANDARD
BEGIN:DAYLIGHT
TZOFFSETFROM:+0100
TZOFFSETTO:+0200
TZNAME:CEST
DTSTART:20260329T010000
END:DAYLIGHT
BEGIN:STANDARD
TZOFFSETFROM:+0200
TZOFFSETTO:+0100
TZNAME:CET
DTSTART:20261025T010000
END:STANDARD
BEGIN:DAYLIGHT
TZOFFSETFROM:+0100
TZOFFSETTO:+0200
TZNAME:CEST
DTSTART:20270328T010000
END:DAYLIGHT
BEGIN:STANDARD
TZOFFSETFROM:+0200
TZOFFSETTO:+0100
TZNAME:CET
DTSTART:20271031T010000
END:STANDARD
END:VTIMEZONE
BEGIN:VEVENT
DTSTART;TZID=Europe/Vienna:20260326T153000
DTEND;TZID=Europe/Vienna:20260326T180000
DTSTAMP:20260421T204017
CREATED:20260302T173918Z
LAST-MODIFIED:20260302T201433Z
UID:10000673-1774539000-1774548000@www.iwagraz.org
SUMMARY:Mums & Explorers: Games Afternoon
DESCRIPTION:Come and join us for some fun and games at Ludovico! \nLudovico is a great place with literally thousands of games to play (and borrow) for all ages right from 2-3 years old\, all the way up to 100!  There are some tables to play on\, comfy chairs and we are allowed to bring snacks along too. \nIf you would like to join then please sign up here\, so that we can make sure they reserve enough space for all of us to play.  Note that signing up is not a binding agreement!! Please still sign up if you’re interested\, even if you are not 100% sure that you can make it.  You can always let us know by posting a comment if you are unsure whether you can make it or not. \n  \n 
URL:https://www.iwagraz.org/event/moms-explorers-games-afternoon/
LOCATION:Ludovico\, Karmeliterplatz 2\, Graz\, 8010\, Austria
CATEGORIES:Activities
ATTACH;FMTTYPE=image/png:https://www.iwagraz.org/wp-content/uploads/2026/03/Poster_Mums_Explorers_GamesAfternoon-e1772482282625.png
END:VEVENT
BEGIN:VEVENT
DTSTART;TZID=Europe/Vienna:20260212T153000
DTEND;TZID=Europe/Vienna:20260212T180000
DTSTAMP:20260421T204017
CREATED:20260112T203400Z
LAST-MODIFIED:20260212T072536Z
UID:10000651-1770910200-1770919200@www.iwagraz.org
SUMMARY:Mums & Tots Meetup in February - CANCELLED
DESCRIPTION:Unfortunately we have had to cancel this event due to lack of sign-ups – keep an eye out for more events in March and April! \nThe Mums & Tots group meets regularly once a month. \nBring your little ones and join Anna M. for varied activities. For easier communication\, we recommend getting in touch with Anna via the Whatsapp group or contact a Board member to be put in touch. \nWe’re planning a fachings party for both big and little kids on Thursday 12th February.  Come dressed in your favourite costume\, bring your favourite snacks or treats to share and have fun with music\, games\, crafts and more!\nSome small snacks & drinks will be provided\, so sign up here to let us know that you would like to come\, so that we can make sure there is enough for everyone \n 
URL:https://www.iwagraz.org/event/mums-tots-meetup-in-february/
LOCATION:Herz-Jesu Church\, Sparbersbachgasse 56\, Graz\, 8010\, Austria
CATEGORIES:Mums & Tots Playgroup
ATTACH;FMTTYPE=image/jpeg:https://www.iwagraz.org/wp-content/uploads/2026/01/Faschingsparty_flyer_cancelled.jpg
END:VEVENT
BEGIN:VEVENT
DTSTART;TZID=Europe/Vienna:20260119T170000
DTEND;TZID=Europe/Vienna:20260119T190000
DTSTAMP:20260421T204017
CREATED:20260110T112726Z
LAST-MODIFIED:20260110T113233Z
UID:10000649-1768842000-1768849200@www.iwagraz.org
SUMMARY:Ice-skating
DESCRIPTION:We’re going ice-skating! \nJoin us for some fun on the ice\, perfect for the whole family. Children under 6 yrs skate for free! \nPlease buy your own tickets online beforehand: \nWinterwelt outdoor skating rink \nMeet us there for skating fun and socializing! \nSkates can be rented on-site. \n 
URL:https://www.iwagraz.org/event/ice-skating/
LOCATION:Landessportzentrum\, Jahngasse 3\, Graz\, 8010
CATEGORIES:Activities
ATTACH;FMTTYPE=image/jpeg:https://www.iwagraz.org/wp-content/uploads/2023/11/Eislaufen.jpg
END:VEVENT
BEGIN:VEVENT
DTSTART;TZID=Europe/Vienna:20251204T140000
DTEND;TZID=Europe/Vienna:20251204T180000
DTSTAMP:20260421T204017
CREATED:20251118T120941Z
LAST-MODIFIED:20251130T154713Z
UID:10000631-1764856800-1764871200@www.iwagraz.org
SUMMARY:Cookie Baking Party
DESCRIPTION:Monika N. and Ioana C. invite you to a Christmas cookie baking party! \nCome together with other ladies (and their children) in our club to exchange holiday recipes and memories…and create a batch of tasty treats! The cookies will be baked in a few batches\, so you can choose to come at an earlier or later slot. \nFor more detailed information\, please contact Monika N. by e-mail at:\nmbukowska@gmail.com \nThis will take place at home in Feldkirchen bei Graz and is reachable by bus 80 from Puntigam train station or bus 671/650 from ÖGK. Get off at Warnhauserstrasse in Feldkirchen bei Graz. Please get in touch with Monika N. if you need more help with this. \nIf you come by car\, there is a large (free) parking space at the nearby skater park. \nFollow the plan:\n– register to the event here\n– Prepare the dough for your chosen cookies at home in advance\, especially if they require a “rest” in the refrigerator.\n– If the cookies require decoration\, bring decorative elements as well\n– Come at the chosen time slot\n– roll out and bake the cookies in two ovens.\n– decorate the cookies.\n– chat and drink warming coffee or tea and eat snacks.\n– share delicious cookie recipes (you can print them out or write them down in advance)\n– share the cookies and take away tins full of goodies for Advent and Christmas. \nEveryone is welcome\, with or without children!
URL:https://www.iwagraz.org/event/cooking-baking-party/
LOCATION:Monika N.’s house\, Mühlweg 33/1\, Feldkirchen bei Graz\, 8073\, Austria
CATEGORIES:Activities
ATTACH;FMTTYPE=image/png:https://www.iwagraz.org/wp-content/uploads/2025/11/Red-and-Brown-Christmas-Cookie-Exchange-Event-Poster.png
END:VEVENT
END:VCALENDAR