BEGIN:VCALENDAR
VERSION:2.0
PRODID:-//IWA Graz - ECPv6.15.20//NONSGML v1.0//EN
CALSCALE:GREGORIAN
METHOD:PUBLISH
X-WR-CALNAME:IWA Graz
X-ORIGINAL-URL:https://www.iwagraz.org
X-WR-CALDESC:Events for IWA Graz
REFRESH-INTERVAL;VALUE=DURATION:PT1H
X-Robots-Tag:noindex
X-PUBLISHED-TTL:PT1H
BEGIN:VTIMEZONE
TZID:Europe/Vienna
BEGIN:DAYLIGHT
TZOFFSETFROM:+0100
TZOFFSETTO:+0200
TZNAME:CEST
DTSTART:20230326T010000
END:DAYLIGHT
BEGIN:STANDARD
TZOFFSETFROM:+0200
TZOFFSETTO:+0100
TZNAME:CET
DTSTART:20231029T010000
END:STANDARD
BEGIN:DAYLIGHT
TZOFFSETFROM:+0100
TZOFFSETTO:+0200
TZNAME:CEST
DTSTART:20240331T010000
END:DAYLIGHT
BEGIN:STANDARD
TZOFFSETFROM:+0200
TZOFFSETTO:+0100
TZNAME:CET
DTSTART:20241027T010000
END:STANDARD
BEGIN:DAYLIGHT
TZOFFSETFROM:+0100
TZOFFSETTO:+0200
TZNAME:CEST
DTSTART:20250330T010000
END:DAYLIGHT
BEGIN:STANDARD
TZOFFSETFROM:+0200
TZOFFSETTO:+0100
TZNAME:CET
DTSTART:20251026T010000
END:STANDARD
END:VTIMEZONE
BEGIN:VEVENT
DTSTART;TZID=Europe/Vienna:20240528T120000
DTEND;TZID=Europe/Vienna:20240528T130000
DTSTAMP:20260421T203212
CREATED:20240513T191420Z
LAST-MODIFIED:20240524T101017Z
UID:10000409-1716897600-1716901200@www.iwagraz.org
SUMMARY:Lunch & Munch at a Thai restaurant
DESCRIPTION:Join us for lunch at Isaan Thai (near Jakominiplatz). This is a family-run\, friendly\, authentic\, homely Thai restaurant. They have a midday menu on offer which includes soup or spring rolls followed by a main course – usually a choice of two dishes\, one of them vegetarian – and a dessert. The midday menu costs €10.90 (or you can order other meals from the menu if you wish). The food is authentic and spicy (see the menu).
URL:https://www.iwagraz.org/event/lunch-munch-at-a-thai-restaurant/
LOCATION:Isaan Thai\, Klosterwiesgasse 13\, Graz\, 8010\, Austria
CATEGORIES:Activities
ATTACH;FMTTYPE=image/jpeg:https://www.iwagraz.org/wp-content/uploads/2024/05/thai-food.jpg
END:VEVENT
BEGIN:VEVENT
DTSTART;TZID=Europe/Vienna:20240520T100000
DTEND;TZID=Europe/Vienna:20240520T120000
DTSTAMP:20260421T203212
CREATED:20240513T183945Z
LAST-MODIFIED:20240513T184447Z
UID:10000407-1716199200-1716206400@www.iwagraz.org
SUMMARY:Get Fit with IWA: Walk from Mariatrost Basilica through Leechwald Forest to Purberg (Hilmteich)
DESCRIPTION:Lets meet up at the final stop /terminus of tram #1 (“Mariatrost”) at 10 am to take a fairly easy walk along the Roseggerweg path which goes past “Häuserl im Wald” to Hilmteich pond. The walk should take us 1½ hrs. It is suitable for baby buggies and strollers. There is an option of having a brunch at Purberg (at individual cost) to connect & socialise. As it is a daytime event on a public holiday spouses and children are welcome. \nLet’s get fit together! The walk is quite shady and mostly (slightly) downhill. \nPlease sign up and indicate if you would like to participate in the brunch & for how many persons we should reserve a table. Please RSVP by close of business on Friday 17th May.
URL:https://www.iwagraz.org/event/get-fit-with-iwa-walk-from-mariatrost-basilica-through-leechwald-forest-to-purberg-hilmteich/
LOCATION:End of tram #1 “Mariatrost”\, Mariatrosterstr. 202a\, Graz
CATEGORIES:Activities
ATTACH;FMTTYPE=image/jpeg:https://www.iwagraz.org/wp-content/uploads/2023/08/wandern.jpg
END:VEVENT
END:VCALENDAR