BEGIN:VCALENDAR
VERSION:2.0
PRODID:-//IWA Graz - ECPv6.15.20//NONSGML v1.0//EN
CALSCALE:GREGORIAN
METHOD:PUBLISH
X-ORIGINAL-URL:https://www.iwagraz.org
X-WR-CALDESC:Events for IWA Graz
REFRESH-INTERVAL;VALUE=DURATION:PT1H
X-Robots-Tag:noindex
X-PUBLISHED-TTL:PT1H
BEGIN:VTIMEZONE
TZID:Europe/Vienna
BEGIN:DAYLIGHT
TZOFFSETFROM:+0100
TZOFFSETTO:+0200
TZNAME:CEST
DTSTART:20230326T010000
END:DAYLIGHT
BEGIN:STANDARD
TZOFFSETFROM:+0200
TZOFFSETTO:+0100
TZNAME:CET
DTSTART:20231029T010000
END:STANDARD
BEGIN:DAYLIGHT
TZOFFSETFROM:+0100
TZOFFSETTO:+0200
TZNAME:CEST
DTSTART:20240331T010000
END:DAYLIGHT
BEGIN:STANDARD
TZOFFSETFROM:+0200
TZOFFSETTO:+0100
TZNAME:CET
DTSTART:20241027T010000
END:STANDARD
BEGIN:DAYLIGHT
TZOFFSETFROM:+0100
TZOFFSETTO:+0200
TZNAME:CEST
DTSTART:20250330T010000
END:DAYLIGHT
BEGIN:STANDARD
TZOFFSETFROM:+0200
TZOFFSETTO:+0100
TZNAME:CET
DTSTART:20251026T010000
END:STANDARD
END:VTIMEZONE
BEGIN:VEVENT
DTSTART;TZID=Europe/Vienna:20240428T150000
DTEND;TZID=Europe/Vienna:20240428T180000
DTSTAMP:20260422T000133
CREATED:20240401T192840Z
LAST-MODIFIED:20240404T053703Z
UID:10000392-1714316400-1714327200@www.iwagraz.org
SUMMARY:Musical "Crazy for You" at the Opera
DESCRIPTION:We will go to see the musical “Crazy for You” (songs in English\, dialogue in German\, kid-friendly). \nYou should purchase your own tickets at the Ticketzentrum (20 seats reserved under “Sara Crockett”). You can use Kulturschecks for this. Adjustments in reservation possible until April 6. \nPlease sign up for this activity! \nPlease note: there is a backstage tour on offer before the musical! See separate activity on this website!
URL:https://www.iwagraz.org/event/musical-crazy-for-you-at-the-opera/
LOCATION:Oper Graz\, Kaiser-Josef-Platz 10\, Graz\, Austria
CATEGORIES:Activities
ATTACH;FMTTYPE=image/jpeg:https://www.iwagraz.org/wp-content/uploads/2022/10/Musical-girl.jpg
END:VEVENT
BEGIN:VEVENT
DTSTART;TZID=Europe/Vienna:20240428T130000
DTEND;TZID=Europe/Vienna:20240428T140000
DTSTAMP:20260422T000133
CREATED:20240401T192349Z
LAST-MODIFIED:20240404T053522Z
UID:10000391-1714309200-1714312800@www.iwagraz.org
SUMMARY:Graz Opera Backstage Tour
DESCRIPTION:We will have a tour backstage at the Opera House in Graz! \nIf you plan on going to the musical “Crazy for You” on the same day (starts at 3 pm) there will be time to go to a café for the hour between the tour and the event. \nPlease sign up for this tour!
URL:https://www.iwagraz.org/event/graz-opera-backstage-tour/
LOCATION:Oper Graz\, Kaiser-Josef-Platz 10\, Graz\, Austria
CATEGORIES:Activities
ATTACH;FMTTYPE=image/jpeg:https://www.iwagraz.org/wp-content/uploads/2023/01/golden-nature.jpg
END:VEVENT
BEGIN:VEVENT
DTSTART;TZID=Europe/Vienna:20240423T183000
DTEND;TZID=Europe/Vienna:20240423T203000
DTSTAMP:20260422T000133
CREATED:20240415T110046Z
LAST-MODIFIED:20240415T110046Z
UID:10000394-1713897000-1713904200@www.iwagraz.org
SUMMARY:General Meeting: Inner Leadership Journey
DESCRIPTION:Since 2019\, Susanne Kallanian has been guiding individuals and teams through Inner Leadership Coaching\, helping them to tap into their self-leadership potential and discover their strengths. She will talk about her book ‘Inner Leadership Journey’ and the creative writing process. At this event\, we want to inspire IWA women to enter a world of self-discovery and personal efficacy!  \nOur colleagues at TINT Journal have generously provided their space and resources. \nSpace is limited\, so please SIGN UP for this event.
URL:https://www.iwagraz.org/event/general-meeting-inner-leadership-journey/
LOCATION:Blättern\, Gartengasse 28\, Graz\, 8010
CATEGORIES:General Meeting
ATTACH;FMTTYPE=image/jpeg:https://www.iwagraz.org/wp-content/uploads/2022/04/jumping-in-the-clouds.jpg
END:VEVENT
END:VCALENDAR