BEGIN:VCALENDAR
VERSION:2.0
PRODID:-//IWA Graz - ECPv6.15.20//NONSGML v1.0//EN
CALSCALE:GREGORIAN
METHOD:PUBLISH
X-WR-CALNAME:IWA Graz
X-ORIGINAL-URL:https://www.iwagraz.org
X-WR-CALDESC:Events for IWA Graz
REFRESH-INTERVAL;VALUE=DURATION:PT1H
X-Robots-Tag:noindex
X-PUBLISHED-TTL:PT1H
BEGIN:VTIMEZONE
TZID:Europe/Vienna
BEGIN:DAYLIGHT
TZOFFSETFROM:+0100
TZOFFSETTO:+0200
TZNAME:CEST
DTSTART:20230326T010000
END:DAYLIGHT
BEGIN:STANDARD
TZOFFSETFROM:+0200
TZOFFSETTO:+0100
TZNAME:CET
DTSTART:20231029T010000
END:STANDARD
BEGIN:DAYLIGHT
TZOFFSETFROM:+0100
TZOFFSETTO:+0200
TZNAME:CEST
DTSTART:20240331T010000
END:DAYLIGHT
BEGIN:STANDARD
TZOFFSETFROM:+0200
TZOFFSETTO:+0100
TZNAME:CET
DTSTART:20241027T010000
END:STANDARD
BEGIN:DAYLIGHT
TZOFFSETFROM:+0100
TZOFFSETTO:+0200
TZNAME:CEST
DTSTART:20250330T010000
END:DAYLIGHT
BEGIN:STANDARD
TZOFFSETFROM:+0200
TZOFFSETTO:+0100
TZNAME:CET
DTSTART:20251026T010000
END:STANDARD
END:VTIMEZONE
BEGIN:VEVENT
DTSTART;TZID=Europe/Vienna:20240621T090000
DTEND;TZID=Europe/Vienna:20240621T103000
DTSTAMP:20260421T205207
CREATED:20240505T182913Z
LAST-MODIFIED:20240505T182913Z
UID:10000405-1718960400-1718965800@www.iwagraz.org
SUMMARY:Women in Business Breakfast
DESCRIPTION:Looking for inspiration and support for your ideas? Then this group is for you!
URL:https://www.iwagraz.org/event/women-in-business-breakfast-6/
LOCATION:Sprachcoaching Isabella Keilani\, Zanklstraße 51\, Graz\, 8051\, Austria
CATEGORIES:Activities
ATTACH;FMTTYPE=image/jpeg:https://www.iwagraz.org/wp-content/uploads/2023/02/Breakfast-with-books.jpg
END:VEVENT
BEGIN:VEVENT
DTSTART;TZID=Europe/Vienna:20240607T090000
DTEND;TZID=Europe/Vienna:20240607T103000
DTSTAMP:20260421T205207
CREATED:20240505T182208Z
LAST-MODIFIED:20240505T182208Z
UID:10000402-1717750800-1717756200@www.iwagraz.org
SUMMARY:Women in Business Breakfast
DESCRIPTION:Come and talk about your aspirations and options with other IWA members.
URL:https://www.iwagraz.org/event/women-in-business-breakfast-5/
LOCATION:Sprachcoaching Isabella Keilani\, Zanklstraße 51\, Graz\, 8051\, Austria
CATEGORIES:Activities
ATTACH;FMTTYPE=image/jpeg:https://www.iwagraz.org/wp-content/uploads/2023/02/Breakfast-with-books.jpg
END:VEVENT
BEGIN:VEVENT
DTSTART;TZID=Europe/Vienna:20240517T090000
DTEND;TZID=Europe/Vienna:20240517T103000
DTSTAMP:20260421T205207
CREATED:20240505T181452Z
LAST-MODIFIED:20240505T181525Z
UID:10000399-1715936400-1715941800@www.iwagraz.org
SUMMARY:Women in Business Breakfast
DESCRIPTION:Come along and talk about your plans for the workplace\, further education or a new venture and get support with your next steps.
URL:https://www.iwagraz.org/event/women-in-business-breakfast-4/
LOCATION:Sprachcoaching Isabella Keilani\, Zanklstraße 51\, Graz\, 8051\, Austria
CATEGORIES:Activities
ATTACH;FMTTYPE=image/jpeg:https://www.iwagraz.org/wp-content/uploads/2023/02/Breakfast-with-books.jpg
END:VEVENT
END:VCALENDAR