BEGIN:VCALENDAR
VERSION:2.0
PRODID:-//IWA Graz - ECPv6.15.20//NONSGML v1.0//EN
CALSCALE:GREGORIAN
METHOD:PUBLISH
X-WR-CALNAME:IWA Graz
X-ORIGINAL-URL:https://www.iwagraz.org
X-WR-CALDESC:Events for IWA Graz
REFRESH-INTERVAL;VALUE=DURATION:PT1H
X-Robots-Tag:noindex
X-PUBLISHED-TTL:PT1H
BEGIN:VTIMEZONE
TZID:Europe/Vienna
BEGIN:DAYLIGHT
TZOFFSETFROM:+0100
TZOFFSETTO:+0200
TZNAME:CEST
DTSTART:20240331T010000
END:DAYLIGHT
BEGIN:STANDARD
TZOFFSETFROM:+0200
TZOFFSETTO:+0100
TZNAME:CET
DTSTART:20241027T010000
END:STANDARD
BEGIN:DAYLIGHT
TZOFFSETFROM:+0100
TZOFFSETTO:+0200
TZNAME:CEST
DTSTART:20250330T010000
END:DAYLIGHT
BEGIN:STANDARD
TZOFFSETFROM:+0200
TZOFFSETTO:+0100
TZNAME:CET
DTSTART:20251026T010000
END:STANDARD
BEGIN:DAYLIGHT
TZOFFSETFROM:+0100
TZOFFSETTO:+0200
TZNAME:CEST
DTSTART:20260329T010000
END:DAYLIGHT
BEGIN:STANDARD
TZOFFSETFROM:+0200
TZOFFSETTO:+0100
TZNAME:CET
DTSTART:20261025T010000
END:STANDARD
END:VTIMEZONE
BEGIN:VEVENT
DTSTART;TZID=Europe/Vienna:20251124T170000
DTEND;TZID=Europe/Vienna:20251124T190000
DTSTAMP:20260421T205920
CREATED:20251028T111004Z
LAST-MODIFIED:20251028T150824Z
UID:10000628-1764003600-1764010800@www.iwagraz.org
SUMMARY:Lean-in Circle: Learning from Failures
DESCRIPTION:F***-up Fest! \nWe have all had failures\, come and share your your very best fails with our supportive group. We’ll laugh together and see that you can recover from even the worst f***-ups! \nPlease note the slightly earlier starting time. Feel free to drop in later if you can’t make it at 5. \n  \nThe Lean-in Circle has been organized by the IWA to help women come together to learn new skills\, exchange ideas and inspiration\, and support each other both personally and professionally. Join us monthly at the cozy Purberg Café for a group discussion led by Caitlin A. \nLearn more about the Lean-in organization and Lean-in Circles.
URL:https://www.iwagraz.org/event/lean-in-circle-3/
LOCATION:Café Purberg\, Hilmteichstraße 70\, Graz\, Styria\, 8010\, Austria
CATEGORIES:Activities
ATTACH;FMTTYPE=image/jpeg:https://www.iwagraz.org/wp-content/uploads/2021/09/lean-in.jpg
END:VEVENT
END:VCALENDAR