BEGIN:VCALENDAR
VERSION:2.0
PRODID:-//IWA Graz - ECPv6.15.20//NONSGML v1.0//EN
CALSCALE:GREGORIAN
METHOD:PUBLISH
X-WR-CALNAME:IWA Graz
X-ORIGINAL-URL:https://www.iwagraz.org
X-WR-CALDESC:Events for IWA Graz
REFRESH-INTERVAL;VALUE=DURATION:PT1H
X-Robots-Tag:noindex
X-PUBLISHED-TTL:PT1H
BEGIN:VTIMEZONE
TZID:Europe/Vienna
BEGIN:DAYLIGHT
TZOFFSETFROM:+0100
TZOFFSETTO:+0200
TZNAME:CEST
DTSTART:20240331T010000
END:DAYLIGHT
BEGIN:STANDARD
TZOFFSETFROM:+0200
TZOFFSETTO:+0100
TZNAME:CET
DTSTART:20241027T010000
END:STANDARD
BEGIN:DAYLIGHT
TZOFFSETFROM:+0100
TZOFFSETTO:+0200
TZNAME:CEST
DTSTART:20250330T010000
END:DAYLIGHT
BEGIN:STANDARD
TZOFFSETFROM:+0200
TZOFFSETTO:+0100
TZNAME:CET
DTSTART:20251026T010000
END:STANDARD
BEGIN:DAYLIGHT
TZOFFSETFROM:+0100
TZOFFSETTO:+0200
TZNAME:CEST
DTSTART:20260329T010000
END:DAYLIGHT
BEGIN:STANDARD
TZOFFSETFROM:+0200
TZOFFSETTO:+0100
TZNAME:CET
DTSTART:20261025T010000
END:STANDARD
END:VTIMEZONE
BEGIN:VEVENT
DTSTART;TZID=Europe/Vienna:20250413T080000
DTEND;TZID=Europe/Vienna:20250413T170000
DTSTAMP:20260421T185014
CREATED:20250417T055459Z
LAST-MODIFIED:20250417T060411Z
UID:10000559-1744531200-1744563600@www.iwagraz.org
SUMMARY:Member-invited: Sundays in Stillness
DESCRIPTION:Please note that this is a series of invited events organized by IWA member Brynn and offered to all members (there is no cost to take part).  \nSundays in Stillness: 10 Weeks to Renewed Energy and Focus\nJoin us for a transformative 10-week journey\, ‘Sundays in Stillness\,’ where each session provides a dedicated space to step back\, tune in\, and rediscover your inner peace. Through guided meditations focused on breath awareness\, body sensations\, and visualization\, you’ll cultivate mental clarity\, increase vitality\, and restore your inner energy. Experience the unique power of meditating together in-person in a communal space\, where the collective energy of the group deepens your practice and amplifies your sense of well-being. \nAttend as many of the sessions as you like but remember that consistency leads to a better experience. There is no cost to attend\, and no prior meditation experience needed. We look forward to seeing you! \nTime: 9:30-10:30am \nDates: Every Sunday from this weekend until the weekend before Easter Sunday 9.2\,16.2\, 23.2\, 2.3\, 9.3\, 16.3\, 23.3\, 30.3\, 6.4\, 13.4 \nLocation: Zanklstraße 51\, 8051 Graz \n(Office of Sparkside and Dr. Keilani) \nCost: None \nLearn more about Brynn’s meditations here and use the contact form if you need to contact Brynn with questions: https://healthadventurer.com/ 
URL:https://www.iwagraz.org/event/member-invited-sundays-in-stillness-2/2025-04-13/1/
LOCATION:Sprachcoaching Isabella Keilani\, Zanklstraße 51\, Graz\, 8051\, Austria
CATEGORIES:Invited
ATTACH;FMTTYPE=image/jpeg:https://www.iwagraz.org/wp-content/uploads/2025/02/Sundays-in-Stillnesss-Facebook-Post.jpg
END:VEVENT
END:VCALENDAR